BEGIN:VCALENDAR
VERSION:2.0
PRODID:-//Virada Sustentável - Belo Horizonte - ECPv6.15.13.1//NONSGML v1.0//EN
CALSCALE:GREGORIAN
METHOD:PUBLISH
X-WR-CALNAME:Virada Sustentável - Belo Horizonte
X-ORIGINAL-URL:https://viradasustentavel.org.br/belo-horizonte
X-WR-CALDESC:Eventos para Virada Sustentável - Belo Horizonte
REFRESH-INTERVAL;VALUE=DURATION:PT1H
X-Robots-Tag:noindex
X-PUBLISHED-TTL:PT1H
BEGIN:VTIMEZONE
TZID:America/Sao_Paulo
BEGIN:STANDARD
TZOFFSETFROM:-0300
TZOFFSETTO:-0300
TZNAME:-03
DTSTART:20240101T000000
END:STANDARD
END:VTIMEZONE
BEGIN:VEVENT
DTSTART;TZID=America/Sao_Paulo:20250510T173000
DTEND;TZID=America/Sao_Paulo:20250510T190000
DTSTAMP:20260423T182141
CREATED:20250502T210605Z
LAST-MODIFIED:20250503T203700Z
UID:937-1746898200-1746903600@viradasustentavel.org.br
SUMMARY:A disputa é nervosa – Lá da Favelinha
DESCRIPTION:A Disputa Nervosa Nacional é uma batalha amistosa entre dançarinos de funk do Brasil todo\, que vão disputar o título de melhor dançarino de funk do país e o prêmio de 15 mil reais! Realizada pelo Centro Cultural Lá da Favelinha\, o projeto conta com patrocínio da Petrobras e Cemig. \nO CENTRO CULTURAL LÁ DA FAVELINHA é uma iniciativa independente e sem fins lucrativos\, existente desde 2015\, que busca incentivar o empreendedorismo periférico e promover a educação\, a cultura e o desenvolvimento social dos moradores do Aglomerado da Serra. Fundada e coordenada pelo artista Kdu dos Anjos\, a organização artístico-cultural está localizada na Vila Novo São Lucas – Aglomerado da Serra\, em Belo Horizonte/MG\, e é financeiramente mantida por doações\, apoios esporádicos de pessoas físicas e jurídicas\, editais de projetos e por muito trabalho voluntário. São várias as áreas de atuação do Centro Cultural. Dentre elas: oficinas culturais e esportivas\, ações sociais em datas comemorativas\, eventos comunitários\, cooperativa de moda sustentável (Remexe Favelinha)\, Pré-Enem\, Favelinha Shopping Center\, Favelinha Dance\, Ponto Chique Favelinha\, parcerias em rede com escolas públicas e com a Associação Comunitária de Moradores da Vila Santana do Cafezal e outros. Com a promoção das oficinas\, a organização articula o conhecimento artístico e intelectual\, e proporciona melhoras na condição de vida das pessoas que participam das atividades. Com isso\, a Favelinha amplia o acesso da comunidade aos meios e condições de exercício dos direitos culturais\, contribui para o surgimento de novas oportunidades para as crianças\, adolescentes\, jovens\, adultos e idosos da comunidade\, e favorece o processo de empoderamento social. É uma iniciativa independente e sem fins lucrativos\, existente desde 2015\, que busca incentivar o empreendedorismo periférico e promover a educação\, a cultura e o desenvolvimento social dos moradores do Aglomerado da Serra. Fundada e coordenada pelo artista Kdu dos Anjos\, a organização artístico-cultural está localizada na Vila Novo São Lucas – Aglomerado da Serra\, em Belo Horizonte/MG\, e é financeiramente mantida por doações\, apoios esporádicos de pessoas físicas e jurídicas\, editais de projetos e por muito trabalho voluntário. São várias as áreas de atuação do Centro Cultural. Dentre elas: oficinas culturais e esportivas\, ações sociais em datas comemorativas\, eventos comunitários\, cooperativa de moda sustentável (Remexe Favelinha)\, Pré-Enem\, Favelinha Shopping Center\, Favelinha Dance\, Ponto Chique Favelinha\, parcerias em rede com escolas públicas e com a Associação Comunitária de Moradores da Vila Santana do Cafezal e outros. Com a promoção das oficinas\, a organização articula o conhecimento artístico e intelectual\, e proporciona melhoras na condição de vida das pessoas que participam das atividades. Com isso\, a Favelinha amplia o acesso da comunidade aos meios e condições de exercício dos direitos culturais\, contribui para o surgimento de novas oportunidades para as crianças\, adolescentes\, jovens\, adultos e idosos da comunidade\, e favorece o processo de empoderamento social. \nArtista/Grupo: Lá da Favelinha
URL:https://viradasustentavel.org.br/belo-horizonte/eventos/a-disputa-e-nervosa-la-da-favelinha/
LOCATION:Palco Sapucaí\, Rua Sapucaí\, Floresta\, Belo Horizonte\, MG\, 30150-050\, Brazil
CATEGORIES:Dança
ATTACH;FMTTYPE=image/jpeg:https://viradasustentavel.org.br/belo-horizonte/wp-content/uploads/sites/2/2025/05/MS300167.jpg
END:VEVENT
END:VCALENDAR