BEGIN:VCALENDAR
VERSION:2.0
PRODID:-//Virada Sustentável - Belo Horizonte - ECPv6.15.13.1//NONSGML v1.0//EN
CALSCALE:GREGORIAN
METHOD:PUBLISH
X-WR-CALNAME:Virada Sustentável - Belo Horizonte
X-ORIGINAL-URL:https://viradasustentavel.org.br/belo-horizonte
X-WR-CALDESC:Eventos para Virada Sustentável - Belo Horizonte
REFRESH-INTERVAL;VALUE=DURATION:PT1H
X-Robots-Tag:noindex
X-PUBLISHED-TTL:PT1H
BEGIN:VTIMEZONE
TZID:America/Sao_Paulo
BEGIN:STANDARD
TZOFFSETFROM:-0300
TZOFFSETTO:-0300
TZNAME:-03
DTSTART:20240101T000000
END:STANDARD
END:VTIMEZONE
BEGIN:VEVENT
DTSTART;TZID=America/Sao_Paulo:20250510T120000
DTEND;TZID=America/Sao_Paulo:20250510T173000
DTSTAMP:20260423T153412
CREATED:20250502T144833Z
LAST-MODIFIED:20250503T203125Z
UID:853-1746878400-1746898200@viradasustentavel.org.br
SUMMARY:Ação CURA – Mural Coletivo
DESCRIPTION:CURA participa da Virada Sustentável com ação artística no CRJ \nO CURA – Circuito Urbano de Arte – foi convidado pela Virada Sustentável para assinar a curadoria de uma intervenção artística que ocupará uma parede do CRJ (Centro de Referência da Juventude)\, nos dias 10 e 11 de maio. A ação contará com uma collab inédita formada por quatro artistas visuais: Efe Godoy\, Julianismos\, Valentino Pelé e Wannata\, selecionades pela curadoria do CURA\, realizada por Jana Macruz e Priscila Amoni. A proposta parte da transversalidade do tema “sustentabilidade”\, entendida em suas múltiplas dimensões – ambiental\, social\, política e afetiva – com especial atenção às vivências e potências LGBTQIAP+. A pintura será fruto de um processo coletivo\, iniciado com uma imersão criativa no próprio CRJ\, no dia 6 de maio. O laboratório\, com duração de quatro horas\, será conduzido pelas curadoras e servirá como espaço de troca\, reflexão e elaboração conjunta entre artistas\, a partir do território e dos temas propostos. Com esta ação\, o CURA reforça sua vocação de promover arte pública engajada\, acessível e conectada com as urgências do presente\, transformando espaços urbanos em plataformas de diálogo\, resistência e imaginação coletiva. \nPintura mural colaborativa no CRJ\n📅 10 e 11 de maio de 2025\n📍 Centro de Referência da Juventude (CRJ) – Belo Horizonte/MG\n🎨 Com Efe Godoy\, Julianismos\, Valentino Pelé e Wannata\n🧭 Curadoria: Jana Macruz e Priscila Amoni (CURA)\n📲 Acompanhe: @cura.art \nValentino Pelé – Fabiano Valentino\, mais conhecido como Pelé\, é um dos principais artistas visuais do Morro do Papagaio. Com diversos projetos culturais\, entre eles o mais famoso\, o Favela Bela\, Pelé constrói cores e narrativas ao longo de toda a comunidade com muralismo. Além de artista é um mobilizador cultural e forte liderança comunitária.\nInstagram: https://www.instagram.com/valentinopele/ \nJuliana (Julianismo) – Vive e trabalha em Belo Horizonte. É graduanda em Artes Visuais pela EBA/UFMG. Sua trajetória artística transita entre diferentes espaços e suportes\, tendo como foco principal a pintura. Investiga as características expressivas da figura humana\, explora as proximidades do ato do retrato como possibilidade de acesso às questões de identidade e de raça\, mesclando sua própria história às subjetividades e memórias\, individuais e coletivas\, da pessoa retratada. Sua prática utiliza elementos composicionais como objetos\, acessórios\, cores\, estampas e as interações que inscrevem o corpo no espaço. Suas pinturas discutem a relação entre o jovem belorizontino/brasileiro e seu cotidiano\, suas relações\, escolhas\, conflitos\, afetos\, amizades\, sonhos e\, principalmente\, sua interação com o circuito cultural dos lugares que vive.\nInstagram: https://www.instagram.com/julianismo_/ \nWanatta – Artista visual\, licenciado pela Escola Guignard (Universidade Estadual de Minas Gerais)\, arte educador\, produtor cultural e grafiteiro. Wanatta Rodrigues é um expoente no cenário artístico de Belo Horizonte. Nascido no Alto Vera Cruz\, ramifica suas raízes por toda a cidade. Construindo territórios\, ressignificando lugares e deslocando espaços\, ele provoca um sismo na geografia belo-horizontina ao intervir na paisagem urbana.\nInstagram: https://www.instagram.com/wanatta_streetart/ \nEfe Godoy – Artista visual míope\, poeta\, transvestigenere\, ELA/dela\, fazedora de imagens.\nPesquisa hibridismo em suas variadas linguagens (vídeo\, desenho\, pintura\, performance\, música) com ênfase em recortes de memórias da infância e fabulações espontâneas. Efe Godoy\, natural da cidade de Sete Lagoas/MG\, hoje vive e trabalha em Belo Horizonte. Passeou pela Escola Guignard UEMG e continua sua formação por meio de vivências em residências no Brasil e exterior.\nInstagram: https://www.instagram.com/efegodoy/ \nArtista/Grupo: Valentino Pelé\, Juliana (Julianismo)\, Wanatta\, Efe Godoy
URL:https://viradasustentavel.org.br/belo-horizonte/eventos/acao-cura-mural-coletivo/
LOCATION:Centro de Referência das Juventudes – CRJ\, Rua Guaicurus\, 50 – Centro\, Belo Horizonte\, MG\, 30111-060\, Brazil
CATEGORIES:Artes Visuais
END:VEVENT
END:VCALENDAR