BEGIN:VCALENDAR
VERSION:2.0
PRODID:-//Virada Sustentável - Belo Horizonte - ECPv6.15.13.1//NONSGML v1.0//EN
CALSCALE:GREGORIAN
METHOD:PUBLISH
X-WR-CALNAME:Virada Sustentável - Belo Horizonte
X-ORIGINAL-URL:https://viradasustentavel.org.br/belo-horizonte
X-WR-CALDESC:Eventos para Virada Sustentável - Belo Horizonte
REFRESH-INTERVAL;VALUE=DURATION:PT1H
X-Robots-Tag:noindex
X-PUBLISHED-TTL:PT1H
BEGIN:VTIMEZONE
TZID:America/Sao_Paulo
BEGIN:STANDARD
TZOFFSETFROM:-0300
TZOFFSETTO:-0300
TZNAME:-03
DTSTART:20240101T000000
END:STANDARD
END:VTIMEZONE
BEGIN:VEVENT
DTSTART;TZID=America/Sao_Paulo:20250510T203000
DTEND;TZID=America/Sao_Paulo:20250510T220000
DTSTAMP:20260423T150657
CREATED:20250502T211506Z
LAST-MODIFIED:20250503T203826Z
UID:946-1746909000-1746914400@viradasustentavel.org.br
SUMMARY:Adriana Araújo Canta Alcione
DESCRIPTION:“Adriana Araújo\, uma das mais aclamadas vozes do samba mineiro\, traz sua verdade em um show que promete encantar e emocionar. Com canções do seu álbum “”Minha Verdade””\, Adriana faz um mergulho profundo em suas raízes\, suas experiências e suas paixões\, trazendo à tona uma jornada de autenticidade e celebração. O show “”Minha Verdade”” é mais do que uma simples apresentação musical; é uma experiência imersiva que transporta o público para o coração pulsante do samba. Adriana não apenas apresentará as poderosas canções autorais de seu álbum\, mas também homenageará os grandes mestres do gênero\, trazendo à vida sucessos imortais que marcam o gênero. Com uma voz que ecoa com a força e a paixão dos grandes sambistas\, Adriana nos levará por um passeio emocionante através de sua jornada musical e pessoal. Desde os ritmos contundentes do samba de raiz até as melodias suaves do samba-canção\, Adriana captura a essência e a diversidade da música preta brasileira. “”Minha Verdade”” não é apenas um show\, é uma celebração da vida\, do amor e da música. É um convite para compartilhar momentos de alegria\, nostalgia e reflexão\, enquanto nos conectamos com os ritmos e as histórias que moldaram nossa identidade cultural. \nFICHA TÉCNICA\nDuração do show: 120 min\nIntérprete: Adriana Araújo\nViolão e Direção Musical: Cristiano Sorriso\nBaixo: Tiago Buiú\nCavaquinho: Matheus Henrique\nTrombone: Luiz Bueno\nBateria: Júlio Faria\nPercussões: Cícero Lucas | Gilson Junio | Gleyson Elias\nManager e Produção Executiva: Ulisses Passos \nNascida na comunidade da Pedreira Prado Lopes\, na região da Lagoinha\, berço do samba de Belo Horizonte\, Adriana Araújo se destaca como uma das grandes vozes do samba mineiro. Desde cedo\, absorveu a rica tradição musical que permeia as ruas e vielas de sua comunidade\, cultivando um profundo respeito e amor pelo gênero que se tornou sua paixão e vocação. Considerada um dos grandes talentos da atual geração\, Adriana não apenas mantém viva a tradição do samba\, mas também a reinventa\, incorporando novas sonoridades e abordagens\, sempre com respeito às suas raízes e à herança cultural afro-brasileira. Ao longo de sua carreira\, Adriana teve a honra de compartilhar o palco com renomados nomes do samba\, como Diogo Nogueira\, Fabiana Coza\, Arlindinho e Jorge Aragão\, enriquecendo sua experiência musical e ampliando seu reconhecimento no cenário nacional. Essas colaborações não apenas evidenciam sua habilidade e versatilidade como intérprete\, mas também sua capacidade de se destacar ao lado dos grandes mestres e mestras do gênero. \nArtista/Grupo: Adriana Araújo
URL:https://viradasustentavel.org.br/belo-horizonte/eventos/adriana-araujo-canta-alcione/
LOCATION:Palco Sapucaí\, Rua Sapucaí\, Floresta\, Belo Horizonte\, MG\, 30150-050\, Brazil
CATEGORIES:Destaque,Música
ATTACH;FMTTYPE=image/jpeg:https://viradasustentavel.org.br/belo-horizonte/wp-content/uploads/sites/2/2025/05/240225_Africanidades_@reversofilmes_@gabvalmoura_214-800.jpg
END:VEVENT
END:VCALENDAR