BEGIN:VCALENDAR
VERSION:2.0
PRODID:-//Virada Sustentável - Belo Horizonte - ECPv6.15.13.1//NONSGML v1.0//EN
CALSCALE:GREGORIAN
METHOD:PUBLISH
X-WR-CALNAME:Virada Sustentável - Belo Horizonte
X-ORIGINAL-URL:https://viradasustentavel.org.br/belo-horizonte
X-WR-CALDESC:Eventos para Virada Sustentável - Belo Horizonte
REFRESH-INTERVAL;VALUE=DURATION:PT1H
X-Robots-Tag:noindex
X-PUBLISHED-TTL:PT1H
BEGIN:VTIMEZONE
TZID:America/Sao_Paulo
BEGIN:STANDARD
TZOFFSETFROM:-0300
TZOFFSETTO:-0300
TZNAME:-03
DTSTART:20240101T000000
END:STANDARD
END:VTIMEZONE
BEGIN:VEVENT
DTSTART;TZID=America/Sao_Paulo:20250511T160000
DTEND;TZID=America/Sao_Paulo:20250511T180000
DTSTAMP:20260423T164014
CREATED:20250502T203755Z
LAST-MODIFIED:20250503T204547Z
UID:908-1746979200-1746986400@viradasustentavel.org.br
SUMMARY:Apresentação Brinco de Ouro – Lá da Favelinha
DESCRIPTION:O espetáculo “Brinco de Ouro” celebra a vida e a resistência. É um manifesto que se expressa nos corpos dançantes e nas vozes que falam de opressão\, sonhos\, amor e libertação. Inspirado pelo tempo espiralar de Leda Martins\, revisita memórias ancestrais e realça o poder das pessoas pretas através das danças cotidianas nos becos\, passinhos e curvas da periferia.\nEm um constante diálogo entre o passado e o presente\, o espetáculo traduz a afromineiridade\, desafiando a necropolítica e celebrando a vida por meio da arte\, da cura e do movimento. Sob a direção artística de Léo Garcia\, “Brinco de Ouro” é um convite para explorar as favelografias e os códigos vitais de uma juventude que transforma e re-inventa revoluções todos os dias. \nFavelinha Dance é um grupo de dança voltado para estudos relacionados ao funk. Criado para proporcionar maior acesso à cultura das comunidades e difundir a dança\, o coletivo se destaca por animar eventos e embalar festas. Além das apresentações em festas e palcos diversos\, o grupo agora também conta com o espetáculo Brinco de Ouro\, que celebra a estética\, a força e a ancestralidade presentes no corpo periférico que transforma e re-inventa revoluções todos os dias. \nArtista/Grupo: Lá da Favelinha
URL:https://viradasustentavel.org.br/belo-horizonte/eventos/apresentacao-brinco-de-ouro-la-da-favelinha/
LOCATION:Palácio das Artes – Juvenal Dias\, Av. Afonso Pena\, 1537 – Centro\, Belo Horizonte\, 30120-010\, 30120-010\, Brazil
CATEGORIES:Destaque,Teatro
ATTACH;FMTTYPE=image/jpeg:https://viradasustentavel.org.br/belo-horizonte/wp-content/uploads/sites/2/2025/05/Brinco-de-Ouro-Samuel-Liberato-@asfotosdesam-800.jpg
END:VEVENT
END:VCALENDAR