BEGIN:VCALENDAR
VERSION:2.0
PRODID:-//Virada Sustentável - Belo Horizonte - ECPv6.15.13.1//NONSGML v1.0//EN
CALSCALE:GREGORIAN
METHOD:PUBLISH
X-WR-CALNAME:Virada Sustentável - Belo Horizonte
X-ORIGINAL-URL:https://viradasustentavel.org.br/belo-horizonte
X-WR-CALDESC:Eventos para Virada Sustentável - Belo Horizonte
REFRESH-INTERVAL;VALUE=DURATION:PT1H
X-Robots-Tag:noindex
X-PUBLISHED-TTL:PT1H
BEGIN:VTIMEZONE
TZID:America/Sao_Paulo
BEGIN:STANDARD
TZOFFSETFROM:-0300
TZOFFSETTO:-0300
TZNAME:-03
DTSTART:20240101T000000
END:STANDARD
END:VTIMEZONE
BEGIN:VEVENT
DTSTART;TZID=America/Sao_Paulo:20250509T100000
DTEND;TZID=America/Sao_Paulo:20250509T190000
DTSTAMP:20260423T164623
CREATED:20250501T182046Z
LAST-MODIFIED:20250503T201506Z
UID:756-1746784800-1746817200@viradasustentavel.org.br
SUMMARY:Até no Lixão Nasce Flor
DESCRIPTION:Em tempos de consumo desenfreado\, tudo pode parecer descartável: objetos\, ideias e até mesmo pessoas. E nesse ciclo de mercado de compra e descarte as cidades são transformadas em depósitos de resíduos. Contudo\, até mesmo nesse cenário caótico\, ainda há vida. Nessa exposição parafraseamos os Racionais MC’s\, “até no lixão nasce flor”\, e é dessa resistência que esta exposição se alimenta. Aqui\, jovens artistas de periferia ressignificam o que muitos chamariam de lixo\, transformando restos em arte\, denúncia e poesia visual. A partir de materiais reaproveitados retirados diretamente dos lixos de Belo Horizonte e da Região Metropolitana\, do olhar crítico e da criatividade\, suas obras questionam\, do lixo que você vê\, qual parte é arte? Cada obra é uma subversão da lógica da obsolescência e um testemunho de que\, mesmo nos espaços marginalizados\, a arte pode florescer\, é só enxergar além do descarte e do descaso. \nNatural de Contagem e criada em Sabará\, Sofia\, que atende pelo pseudônimo de Cherry\, é multiartista há nove anos dentre as artes visuais\, com produção de artes em porcelana fria\, desenho e pintura. Além de artista é empreendedora\, produtora cultural e pedagoga em formação. \nArtista/Grupo: Sofia Sara
URL:https://viradasustentavel.org.br/belo-horizonte/eventos/ate-no-lixao-nasce-flor-2/
LOCATION:Centro de Referência das Juventudes – CRJ (Galeria Nati)\, Rua Guaicurus\, 50 – Centro\, Belo Horizonte\, MG\, 30111-060\, Brazil
CATEGORIES:Exposição
ATTACH;FMTTYPE=image/jpeg:https://viradasustentavel.org.br/belo-horizonte/wp-content/uploads/sites/2/2025/05/IMG-20250217-WA0165-sofia-sara-scaled.jpg
END:VEVENT
END:VCALENDAR