BEGIN:VCALENDAR
VERSION:2.0
PRODID:-//Virada Sustentável - Belo Horizonte - ECPv6.15.13.1//NONSGML v1.0//EN
CALSCALE:GREGORIAN
METHOD:PUBLISH
X-WR-CALNAME:Virada Sustentável - Belo Horizonte
X-ORIGINAL-URL:https://viradasustentavel.org.br/belo-horizonte
X-WR-CALDESC:Eventos para Virada Sustentável - Belo Horizonte
REFRESH-INTERVAL;VALUE=DURATION:PT1H
X-Robots-Tag:noindex
X-PUBLISHED-TTL:PT1H
BEGIN:VTIMEZONE
TZID:America/Sao_Paulo
BEGIN:STANDARD
TZOFFSETFROM:-0300
TZOFFSETTO:-0300
TZNAME:-03
DTSTART:20240101T000000
END:STANDARD
END:VTIMEZONE
BEGIN:VEVENT
DTSTART;TZID=America/Sao_Paulo:20250511T130000
DTEND;TZID=America/Sao_Paulo:20250511T140000
DTSTAMP:20260423T163900
CREATED:20250502T212442Z
LAST-MODIFIED:20250503T204339Z
UID:966-1746968400-1746972000@viradasustentavel.org.br
SUMMARY:Atração Infantil – Elefanteatro
DESCRIPTION:O grupo Pigmalião Escultura que Mexe traz ao público o seu Elefanteatro: um enorme animal que tem um teatro na barriga\, uma montanha de plásticos coloridos\, um boneco elefante em tamanho real que caminhará pela rua Sapucaí integrando a programação da Virada sustentável. Elefanteatro é um espetáculo de rua\, um teatro que caminha junto com o público. Ele carrega muitas histórias diferentes\, mas que agora tem um caminho em comum. Ele é construído de restos de embalagens\, restos de um mundo decadente\, como uma montanha de resíduos que ganha vida. O Elefanteatro é um espetáculo que busca aguçar no público o olhar sobre a alteridade\, sobre quem precisa partir para\, meramente\, continuar a viver. O elefante deu seus primeiros passos em julho de 2023\, em Belo Horizonte\, em 2024 circulou nas periferias da capital mineira\, participou do FIT-BH e também esteve nas cidades de Brumadinho\, Curitiba e Itabira. O elefante\, que tem uma estrutura de madeira\, alumínio e tubos de PVC\, foi revestido com embalagens descartáveis de plástico\, coletadas pelo grupo em uma campanha que teve ampla participação do público. Ele caminha manipulado e animado por seis manipuladores\, tendo como suporte uma bicicleta toda adaptada para um passageiro completamente fora do padrão. Os bonecos menores\, que habitam e tripulam o Elefanteatro foram inspirados em personagens da literatura ou pessoas reais\, e sua pintura é feita a base de terra. \nO Pigmalião Escultura que Mexe (www.pigmaliao.com) é um grupo de teatro de Formas Animadas sediado na cidade de Belo Horizonte\, em 2007\, cujo trabalho se caracteriza pela mistura de linguagens e disciplinas\, principalmente entre artes cênicas e artes visuais. A sua trajetória está intimamente ligada ao teatro contemporâneo e às artes performativas\, onde a filosofia e a política passam pela dramaturgia e encenação dos seus espetáculos. O Pigmalião Escultura que Mexe conta com um repertório de sete espetáculos\, quatro cenas curtas e duas intervenções para a rua. As possibilidades de manipulação da marionete de fios clássica\, bem como a relação dos atores com os bonecos e a pesquisa constante com outras disciplinas artísticas são os elementos fundamentais de seu trabalho. Assim\, o Pigmalião Escultura que Mexe busca o reconhecimento da marionete na produção artística contemporânea. \nArtista/Grupo: Cia Pigmalião
URL:https://viradasustentavel.org.br/belo-horizonte/eventos/atracao-infantil-elefanteatro/
LOCATION:Rua Sapucaí\, Floresta\, Rua Sapucaí\, Belo Horizonte\, MG\, 30150-050\, Brazil
CATEGORIES:Teatro
ATTACH;FMTTYPE=image/jpeg:https://viradasustentavel.org.br/belo-horizonte/wp-content/uploads/sites/2/2025/05/Elefanteatro-e-Pigmaliao_Marcelo-SantAnna_129-2-1.jpg
END:VEVENT
END:VCALENDAR