BEGIN:VCALENDAR
VERSION:2.0
PRODID:-//Virada Sustentável - Belo Horizonte - ECPv6.15.13.1//NONSGML v1.0//EN
CALSCALE:GREGORIAN
METHOD:PUBLISH
X-WR-CALNAME:Virada Sustentável - Belo Horizonte
X-ORIGINAL-URL:https://viradasustentavel.org.br/belo-horizonte
X-WR-CALDESC:Eventos para Virada Sustentável - Belo Horizonte
REFRESH-INTERVAL;VALUE=DURATION:PT1H
X-Robots-Tag:noindex
X-PUBLISHED-TTL:PT1H
BEGIN:VTIMEZONE
TZID:America/Sao_Paulo
BEGIN:STANDARD
TZOFFSETFROM:-0300
TZOFFSETTO:-0300
TZNAME:-03
DTSTART:20240101T000000
END:STANDARD
END:VTIMEZONE
BEGIN:VEVENT
DTSTART;TZID=America/Sao_Paulo:20250508T190000
DTEND;TZID=America/Sao_Paulo:20250508T220000
DTSTAMP:20260423T164730
CREATED:20250501T181350Z
LAST-MODIFIED:20250503T201332Z
UID:747-1746730800-1746741600@viradasustentavel.org.br
SUMMARY:Calma Clima – Edição Virada Sustentável
DESCRIPTION:Calma Clima integra a programação da Virada Sustentável de 2025 convidando corredoras e corredores a refletir sobre o corpo e a paisagem urbana. Ao longo de 6 km\, celebraremos a corrida como um potente instrumento de reimaginação da nossa experiência de viver\, pensar e transitar na cidade. Serão 6 km de percurso\, tendo como ponto de início a Praça 7 e término na Rua Sapucaí. \nO grupo Calma Clima nasceu em agosto de 2017 com o propósito de celebrar a corrida e a caminhada como instrumentos de contato com a paisagem de Belo Horizonte. Das primeiras expedições realizadas em trilhas e montanhas às margens da cidade\, o grupo logo passaria a correr todas as semanas pelas ruas da capital mineira\, tendo como inspiração um movimento global conhecido por running crews. \nCom quase oito anos de existência\, o Calma Clima já soma mais de 400 atividades realizadas de forma gratuita em Belo Horizonte\, dentre corridas e caminhadas\, além de práticas meditativas e rodas de conversas. Semanalmente ativo nestes últimos oito anos (com exceção do período pandêmico)\, o grupo chega a reunir mais de 1.000 pessoas por semana\, algo sem qualquer comparativo ou precedente em qualquer outra cena de corrida do Brasil e do mundo. \nArtista/Grupo: Calma Clima
URL:https://viradasustentavel.org.br/belo-horizonte/eventos/calma-clima-edicao-virada-sustentavel/
LOCATION:Praça Sete até a Rua Sapucaí\, Praça Sete de Setembro\, s/n – Centro\, Belo Horizonte\, MG\, 30120-010\, Brazil
CATEGORIES:Bem-estar
ATTACH;FMTTYPE=image/jpeg:https://viradasustentavel.org.br/belo-horizonte/wp-content/uploads/sites/2/2025/05/CALMACLIMA-Foto-Lucas-Cancela-10.jpg
END:VEVENT
END:VCALENDAR