BEGIN:VCALENDAR
VERSION:2.0
PRODID:-//Virada Sustentável - Belo Horizonte - ECPv6.15.13.1//NONSGML v1.0//EN
CALSCALE:GREGORIAN
METHOD:PUBLISH
X-WR-CALNAME:Virada Sustentável - Belo Horizonte
X-ORIGINAL-URL:https://viradasustentavel.org.br/belo-horizonte
X-WR-CALDESC:Eventos para Virada Sustentável - Belo Horizonte
REFRESH-INTERVAL;VALUE=DURATION:PT1H
X-Robots-Tag:noindex
X-PUBLISHED-TTL:PT1H
BEGIN:VTIMEZONE
TZID:America/Sao_Paulo
BEGIN:STANDARD
TZOFFSETFROM:-0300
TZOFFSETTO:-0300
TZNAME:-03
DTSTART:20240101T000000
END:STANDARD
END:VTIMEZONE
BEGIN:VEVENT
DTSTART;TZID=America/Sao_Paulo:20250510T150000
DTEND;TZID=America/Sao_Paulo:20250510T153000
DTSTAMP:20260423T193215
CREATED:20250503T203414Z
LAST-MODIFIED:20250503T203414Z
UID:1246-1746889200-1746891000@viradasustentavel.org.br
SUMMARY:DJ Preta Showme
DESCRIPTION:Suas referências vêm principalmente da música brasileira\, dos sons e ritmos que lhe atravessou nas alterosas. Transita e transiciona entre o samba\, forró e carimbó até os sons mais pops e contemporâneos. Causadora e portadora do SHOWME e operadora do KAUS. Mistura ritmos\, movimentos por meio de uma curadoria dissidente\, transfeminista e reivindica o direito de ser uma MONSTRA. \nIntegrante\, gestora e fundadora da Showme produções artísticas e comunicação\, onde atua como DJ\, produtora\, diretora e gestora em projetos e festivais da cena. DJ residente e sócia do Espaço Cultural GRUTA! \nArtista/Grupo: Fredda Amorim
URL:https://viradasustentavel.org.br/belo-horizonte/eventos/dj-preta-showme-2/
LOCATION:Palco Sapucaí\, Rua Sapucaí\, Floresta\, Belo Horizonte\, MG\, 30150-050\, Brazil
CATEGORIES:Música
ATTACH;FMTTYPE=image/jpeg:https://viradasustentavel.org.br/belo-horizonte/wp-content/uploads/sites/2/2025/05/FOTO-DE-PEDRO-MENEGUETE.jpg
END:VEVENT
END:VCALENDAR