BEGIN:VCALENDAR
VERSION:2.0
PRODID:-//Virada Sustentável - Belo Horizonte - ECPv6.15.13.1//NONSGML v1.0//EN
CALSCALE:GREGORIAN
METHOD:PUBLISH
X-WR-CALNAME:Virada Sustentável - Belo Horizonte
X-ORIGINAL-URL:https://viradasustentavel.org.br/belo-horizonte
X-WR-CALDESC:Eventos para Virada Sustentável - Belo Horizonte
REFRESH-INTERVAL;VALUE=DURATION:PT1H
X-Robots-Tag:noindex
X-PUBLISHED-TTL:PT1H
BEGIN:VTIMEZONE
TZID:America/Sao_Paulo
BEGIN:STANDARD
TZOFFSETFROM:-0300
TZOFFSETTO:-0300
TZNAME:-03
DTSTART:20240101T000000
END:STANDARD
END:VTIMEZONE
BEGIN:VEVENT
DTSTART;TZID=America/Sao_Paulo:20250510T120000
DTEND;TZID=America/Sao_Paulo:20250510T125500
DTSTAMP:20260423T153149
CREATED:20250502T195837Z
LAST-MODIFIED:20250503T203023Z
UID:873-1746878400-1746881700@viradasustentavel.org.br
SUMMARY:Espetáculo A Mala – Circo Gamarra
DESCRIPTION:Hoje tem circo? Tem\, sim senhor! O palhaço Cloro traz o circo na mala. É só chegar\, abrir\, e muitas surpresas e alegrias vão acontecer. Números clássicos do circo: o domador de feras\, equilíbrio\, malabarismo e um simpático tenista às voltas com sua raquete de tênis furada. Um circo mambembe\, de um homem só\, com muitas malas e a magia circense. Com vocês: o Circo Gamarra\, com amor e muita garra! Solta a alegria! \nDiego Gamarra nasceu em Rosário\, na Argentina\, cidade que deixou há vinte anos\, quando saiu a percorrer inúmeras cidades da América Latina com a arte do circo. Residente em Belo Horizonte há vinte anos\, trabalhou como educador em diferentes projetos sociais\, percorreu hospitais e zonas de periferia levando a transformadora arte do palhaço. Participou de diferentes encontros\, convenções e festivais em diferentes países de América do Sul\, Centro América e Europa ao longo de sua trajetória. Atualmente\, realiza a gestão do espaço cultural Casa Circo Gamarra\, centro de treinamento e residência artística na Vila Dias\, no bairro Santa Tereza em Belo Horizonte\, além de apresentar sua arte em diferentes espaços públicos da cidade. \nConcepção e atuação: Diego Gamarra (PALHAÇO CLORO) \nArtista/Grupo: Casa Circo Gamarra \n 
URL:https://viradasustentavel.org.br/belo-horizonte/eventos/espetaculo-a-mala-circo-gamarra/
LOCATION:Rua Sapucaí\, Floresta\, Rua Sapucaí\, Belo Horizonte\, MG\, 30150-050\, Brazil
CATEGORIES:Teatro
ATTACH;FMTTYPE=image/jpeg:https://viradasustentavel.org.br/belo-horizonte/wp-content/uploads/sites/2/2025/05/DSC07458-scaled.jpg
END:VEVENT
END:VCALENDAR