BEGIN:VCALENDAR
VERSION:2.0
PRODID:-//Virada Sustentável - Belo Horizonte - ECPv6.15.13.1//NONSGML v1.0//EN
CALSCALE:GREGORIAN
METHOD:PUBLISH
X-WR-CALNAME:Virada Sustentável - Belo Horizonte
X-ORIGINAL-URL:https://viradasustentavel.org.br/belo-horizonte
X-WR-CALDESC:Eventos para Virada Sustentável - Belo Horizonte
REFRESH-INTERVAL;VALUE=DURATION:PT1H
X-Robots-Tag:noindex
X-PUBLISHED-TTL:PT1H
BEGIN:VTIMEZONE
TZID:America/Sao_Paulo
BEGIN:STANDARD
TZOFFSETFROM:-0300
TZOFFSETTO:-0300
TZNAME:-03
DTSTART:20240101T000000
END:STANDARD
END:VTIMEZONE
BEGIN:VEVENT
DTSTART;TZID=America/Sao_Paulo:20250510T190000
DTEND;TZID=America/Sao_Paulo:20250510T200000
DTSTAMP:20260423T181341
CREATED:20250502T210903Z
LAST-MODIFIED:20250503T203730Z
UID:940-1746903600-1746907200@viradasustentavel.org.br
SUMMARY:Espetáculo Cabaré Fitness
DESCRIPTION:O Cabaré é uma das principais linguagens artísticas da Trupe Estrela\, utilizada para comunicar questões macro/micro políticas pertinentes à atualidade\, se utilizando da estética e estrutura cênica da linguagem do cabaré\, na criação de números festivos\, provocadores e intrinsecamente políticos. Com várias apresentações realizadas de 2017 a 2024\, o trabalho se configura como “espetáculo-festa” mutante\, pois\, a cada montagem há novas urgências levantadas pelas integrantes e\, consequentemente\, novas cenas adaptadas aos cenários e contextos políticos do país e da cidade de Belo Horizonte. \nA criação de autoria coletiva/compartilhada/colaborativa é essencialmente parte do processo de criação da Trupe Estrela\, pois parte do princípio do Comum e porque é composta por artistas de diferentes regiões\, etnias e linguagens artísticas\, como: bailarinas\, musicistas\, artistas visuais\, circenses\, do cinema etc\, que encontraram na criação coletiva sua principal metodologia e enxergam a horizontalidade de ideias/criações seus principais valores. \nHoje denominado Trupe Estrela\, o Núcleo de Teatro do Espaço Comum Luiz Estrela surge com a ocupação do casarão da Rua Manaus\, 348\, que deu origem ao Espaço Comum Luiz Estrela após cessão de uso do imóvel pelo governo do estado de Minas Gerais\, em 2013. Somos um coletivo de teatro que se dedica à experimentações estéticas para construções cênicas e processos formativos. Desde o início da ocupação\, participamos de parte da programação artística do espaço\, além da presença na produção de eventos dentro e fora do casarão. \nArtista/Grupo: Trupe Estrela
URL:https://viradasustentavel.org.br/belo-horizonte/eventos/espetaculo-cabare-fitness/
LOCATION:Espaço Comum Luiz Estrela\, Rua Manaus\, 238\, Belo Horizonte\, MG\, 30150-350\, Brazil
CATEGORIES:Teatro
ATTACH;FMTTYPE=image/jpeg:https://viradasustentavel.org.br/belo-horizonte/wp-content/uploads/sites/2/2025/05/Cabare-Fitness.-Credito-Veronica-ManevyAflora-Imagem-10-Trupe-Estrela.jpg
END:VEVENT
END:VCALENDAR