BEGIN:VCALENDAR
VERSION:2.0
PRODID:-//Virada Sustentável - Belo Horizonte - ECPv6.15.13.1//NONSGML v1.0//EN
CALSCALE:GREGORIAN
METHOD:PUBLISH
X-WR-CALNAME:Virada Sustentável - Belo Horizonte
X-ORIGINAL-URL:https://viradasustentavel.org.br/belo-horizonte
X-WR-CALDESC:Eventos para Virada Sustentável - Belo Horizonte
REFRESH-INTERVAL;VALUE=DURATION:PT1H
X-Robots-Tag:noindex
X-PUBLISHED-TTL:PT1H
BEGIN:VTIMEZONE
TZID:America/Sao_Paulo
BEGIN:STANDARD
TZOFFSETFROM:-0300
TZOFFSETTO:-0300
TZNAME:-03
DTSTART:20240101T000000
END:STANDARD
END:VTIMEZONE
BEGIN:VEVENT
DTSTART;TZID=America/Sao_Paulo:20250509T140000
DTEND;TZID=America/Sao_Paulo:20250509T163000
DTSTAMP:20260423T165451
CREATED:20250501T183600Z
LAST-MODIFIED:20250503T201603Z
UID:761-1746799200-1746808200@viradasustentavel.org.br
SUMMARY:Espetáculo Infantil Aquarela
DESCRIPTION:Grupo Maria Cutia em “Aquarela”\nShow cênico com composições para crianças \nGrupo Maria Cutia leva aos palcos obra dedicada às crianças. “Aquarela” traz canções cênicas autorais da companhia e brinca com as memórias das infâncias dos 3 atores em\ncena e com o olhar deles sobre os coloridos da infância.\nO processo de criação desse espetáculo começou em 2018 e foi pausado quando a Cia se aventurou na montagem do “Auto da Compadecida”\, com o diretor Gabriel Vilella\,\nque estreou em 2019. “Quando retomamos o processo do ‘Aquarela’ em 2020\, veio a pandemia. Fizemos então alguns experimentos das canções em saraus audiovisuais em\nteatros\, na Toca da Cutia (nossa sede) e até da sala lá de casa”\, conta o ator Leonardo Rocha. \nAs canções passeiam por ritmos que vão da valsa ao frevo e os atores brincantes até convidam o público para fazer junto com eles um carnaval sem instrumentos\, usando apenas a boca. “O ‘Carnaval Bucal’ é uma canção que brinca com os instrumentos de carnaval… é um desejo nosso de matar um tiquinho as saudades que estamos de aglomerar numa folia carnavalesca”\, confessa o ator e diretor musical Hugo da Silva\, que também é cantor de um dos blocos de carnaval de rua da cidade\, o Abre-te Sésamo. \nA dramaturgia e as letras das canções são todas assinadas pelo Maria Cutia\, numa mistura entre dados biográficos dos três artistas\, ficções e muita brincadeira fonética e semântica. “A criação musical sempre foi uma base muito forte do Maria Cutia. A gente sempre fala que o nosso teatro é cheio de música e nossa música é cheia de teatro. Em\n‘Aquarela’\, verticalizamos nisso sem medo de brincar”\, complementa Hugo. \nO universo dos trava-línguas\, os ritmos de uma aula de dança\, as palavras erradas do tatibitate de uma criança quando aprende a falar\, expressões conotativas que usam\nnomes de animais são algumas das inspirações das composições. “A ideia era criar um universo das letras mais amplo\, sem uma certa previsibilidade temática que existe quando se compõe para crianças\, geralmente educativa e didática”\, comenta Leonardo. Para a atriz Mariana Arruda o espetáculo é “uma mistura de ritmos\, sensações\, bobagens\, poesias. Falamos de medo e de amor\, de angústia\, de brincadeiras de quintal. Os universos das infâncias são múltiplos\, infinitos\, não dá pra reduzir em certo e errado. Não é pensar em ser educativo. O universo da criança\, por essência\, é transgressor”. \n“Aquarela” teve sua estreia em 2021 e é a terceira produção do Grupo Maria Cutia voltada para crianças\, companhia tradicionalmente de teatro de rua\, mas que também gosta\nde se aventurar pelos palcos. A primeira foi o espetáculo brincante “Na Roda” que está no repertório da cia desde sua fundação em 2006. Além de “ParaChicos”\, show cênico com\ncanções do Chico Buarque\, que estreou em 2017. “Sempre temos muitas crianças na plateia\, mesmo em nossos espetáculos para adultos. Produzir uma nova obra direcionada para este público tão carinhoso é uma alegria para a gente”\, relata a produtora do grupo Luisa Monteiro. \nAQUARELA\nCom Grupo Maria Cutia\nUm show cênico com canções autorais para crianças \nFicha Técnica\nDireção Coletiva\nEm cena: Hugo da Silva\, Leonardo Rocha e Mariana Arruda\nDireção Musical: Hugo da Silva\nOrientações artísticas: Eugênio Tadeu\nFigurinos: Luiz Dias\nCenário: Leonardo Rocha\nLuz: CiaTecno\nProdução: Luisa Monteiro \nO Grupo Maria Cutia busca espalhar teatro por praças e palcos\, capitais e sertões\, movido pela cumplicidade com o público e por uma poética popular\, lúdica e musical. Tem como principais matrizes de investigação cênica o conceito da música-em-cena e da linguagem da palhaçaria para o teatro. Os espetáculos do grupo são marcados por um forte e sincero diálogo com o público. Criado em 2006\, em Belo Horizonte\, o Grupo Maria Cutia já se apresentou em seis países\, 23 estados nacionais totalizando mais de duzentas cidades\, para um público de mais de 700 mil espectadores em seus vinte anos de história. \nArtista/Grupo: Cia Maria Cutia
URL:https://viradasustentavel.org.br/belo-horizonte/eventos/espetaculo-infantil-aquarela/
LOCATION:Cine Theatro Brasil – Teatro Câmara\, Av. Amazonas\, 315 – Centro\, Belo Horizonte\, MG\, 30180-000\, Brazil
CATEGORIES:Teatro
ATTACH;FMTTYPE=image/jpeg:https://viradasustentavel.org.br/belo-horizonte/wp-content/uploads/sites/2/2025/05/Aquarela-creditos-Tati-Motta-5-1.jpg
END:VEVENT
END:VCALENDAR