BEGIN:VCALENDAR
VERSION:2.0
PRODID:-//Virada Sustentável - Belo Horizonte - ECPv6.15.13.1//NONSGML v1.0//EN
CALSCALE:GREGORIAN
METHOD:PUBLISH
X-WR-CALNAME:Virada Sustentável - Belo Horizonte
X-ORIGINAL-URL:https://viradasustentavel.org.br/belo-horizonte
X-WR-CALDESC:Eventos para Virada Sustentável - Belo Horizonte
REFRESH-INTERVAL;VALUE=DURATION:PT1H
X-Robots-Tag:noindex
X-PUBLISHED-TTL:PT1H
BEGIN:VTIMEZONE
TZID:America/Sao_Paulo
BEGIN:STANDARD
TZOFFSETFROM:-0300
TZOFFSETTO:-0300
TZNAME:-03
DTSTART:20240101T000000
END:STANDARD
END:VTIMEZONE
BEGIN:VEVENT
DTSTART;TZID=America/Sao_Paulo:20250510T100000
DTEND;TZID=America/Sao_Paulo:20250510T170000
DTSTAMP:20260423T150327
CREATED:20250502T142930Z
LAST-MODIFIED:20250503T202740Z
UID:835-1746871200-1746896400@viradasustentavel.org.br
SUMMARY:Feira Estelar
DESCRIPTION:🌱✨ Feira Estelar de Maio no Espaço Comum Luiz Estrela ✨🌱\nUma edição especial para a Virada Cultural em homenagem às Mães. \nNeste 10 de maio\, nossa feira convida a celebrar os cuidados que sustentam a vida – da terra\, do corpo\, da casa e das relações. \nAlém dos nossos expositores frequentes – com artesanato\, cerâmicas\, brechós\, fotografia\, delícias caseiras\, almoço comum\, agricultura familiar\, trocas de saberes e muito afeto – teremos atividades especiais voltadas ao cuidado com o planeta e com quem cuida de nós. \n💚 Produtos sustentáveis e presentes afetivos para as mães.\n💚 Roda de conversa sobre maternagens e meio ambiente.\n💚 Música\, encontro e presença boa! \n📍 Espaço Comum Luiz Estrela\nRua Manaus\, 348\n📅 10 de maio\, das 10h às 17h\n🐕 Animais são bem-vindos nas áreas externas. \nArtista/Grupo: Feira Estelar
URL:https://viradasustentavel.org.br/belo-horizonte/eventos/feira-estelar/
LOCATION:Espaço Comum Luiz Estrela\, Rua Manaus\, 238\, Belo Horizonte\, MG\, 30150-350\, Brazil
CATEGORIES:Feira
ATTACH;FMTTYPE=image/jpeg:https://viradasustentavel.org.br/belo-horizonte/wp-content/uploads/sites/2/2025/05/491439157_978674857814941_733552540833757940_n.jpg
END:VEVENT
END:VCALENDAR