BEGIN:VCALENDAR
VERSION:2.0
PRODID:-//Virada Sustentável - Belo Horizonte - ECPv6.15.13.1//NONSGML v1.0//EN
CALSCALE:GREGORIAN
METHOD:PUBLISH
X-WR-CALNAME:Virada Sustentável - Belo Horizonte
X-ORIGINAL-URL:https://viradasustentavel.org.br/belo-horizonte
X-WR-CALDESC:Eventos para Virada Sustentável - Belo Horizonte
REFRESH-INTERVAL;VALUE=DURATION:PT1H
X-Robots-Tag:noindex
X-PUBLISHED-TTL:PT1H
BEGIN:VTIMEZONE
TZID:America/Sao_Paulo
BEGIN:STANDARD
TZOFFSETFROM:-0300
TZOFFSETTO:-0300
TZNAME:-03
DTSTART:20240101T000000
END:STANDARD
END:VTIMEZONE
BEGIN:VEVENT
DTSTART;TZID=America/Sao_Paulo:20250511T100000
DTEND;TZID=America/Sao_Paulo:20250511T180000
DTSTAMP:20260423T182354
CREATED:20250502T212350Z
LAST-MODIFIED:20250503T204141Z
UID:962-1746957600-1746986400@viradasustentavel.org.br
SUMMARY:Feira Paraíso VEG – Festival Vegano
DESCRIPTION:O Paraíso Veg é um festival vegano\, gratuito e itinerante que foi idealizado para unir uma feira vegana à uma programação cultural diversificada\, que inclui atrações artísticas\, atividades educativas\, adoção de animais\, ativismo e muito mais. Temos como objetivos disseminar a cultura vegana\, fortalecer os produtores e unir as pessoas em um ambiente agradável\, descontraído\, pet friendly e acessível à todos que buscam produtos livres de exploração animal e humana\, além de defender a produção e o consumo consciente em harmonia com a natureza. O evento consiste em uma feira com diversos expositores de gastronomia\, artesanato\, cosméticos naturais e artigos sustentáveis\, música ao vivo\, adoção de cães e gatos resgatados.\n \nO Paraíso Veg é um festival vegano\, gratuito e itinerante que foi idealizado para unir uma feira vegana à uma programação cultural diversificada\, que inclui atrações artísticas\, atividades educativas\, adoção de animais\, ativismo e muito mais. O evento está consolidado\, com mais de setenta edições realizadas em Belo Horizonte\, promovendo cultura\, sustentabilidade e impacto social significativo. \nArtista/Grupo: Paraíso Veg
URL:https://viradasustentavel.org.br/belo-horizonte/eventos/feira-paraiso-veg-festival-vegano-2/
LOCATION:Rua Sapucaí\, Floresta\, Rua Sapucaí\, Belo Horizonte\, MG\, 30150-050\, Brazil
CATEGORIES:Feira
ATTACH;FMTTYPE=image/jpeg:https://viradasustentavel.org.br/belo-horizonte/wp-content/uploads/sites/2/2025/05/foto-feira-paraiso-veg-1.jpg
END:VEVENT
END:VCALENDAR