BEGIN:VCALENDAR
VERSION:2.0
PRODID:-//Virada Sustentável - Belo Horizonte - ECPv6.15.13.1//NONSGML v1.0//EN
CALSCALE:GREGORIAN
METHOD:PUBLISH
X-WR-CALNAME:Virada Sustentável - Belo Horizonte
X-ORIGINAL-URL:https://viradasustentavel.org.br/belo-horizonte
X-WR-CALDESC:Eventos para Virada Sustentável - Belo Horizonte
REFRESH-INTERVAL;VALUE=DURATION:PT1H
X-Robots-Tag:noindex
X-PUBLISHED-TTL:PT1H
BEGIN:VTIMEZONE
TZID:America/Sao_Paulo
BEGIN:STANDARD
TZOFFSETFROM:-0300
TZOFFSETTO:-0300
TZNAME:-03
DTSTART:20240101T000000
END:STANDARD
END:VTIMEZONE
BEGIN:VEVENT
DTSTART;VALUE=DATE:20250508
DTEND;VALUE=DATE:20250509
DTSTAMP:20260423T121934
CREATED:20250430T220626Z
LAST-MODIFIED:20250503T200556Z
UID:650-1746662400-1746748799@viradasustentavel.org.br
SUMMARY:Festa da Luz – Letreiro Luminoso – Bater a laje no céu da boca dos nossos sonhos
DESCRIPTION:Sobre a obra: O poema “Fé no mutirão”\, originalmente pensado para a Estação Central do metrô de Belo Horizonte durante a 2ª edição da Festa da Luz em 2023\, se tornou icônico e provocou grande debate quando da sua primeira exibição. \nOs versos “Bater a Laje no céu da boca dos nossos sonhos” gerou debate e muitas interpretações de sentido. \nFicha técnica:\nArtista: Nívea Sabino (Nova Lima\, Brasil)\, 2023\nTítulo: Fé no mutirão\nDireção artística e acervo: Festa da Luz \nMembra fundadora da Academia Nova-limense de Letras\, Nívea Sabino publica os seus textos prioritariamente pela boca e muros das cidades. \nArtista/Grupo: Nívea Sabino
URL:https://viradasustentavel.org.br/belo-horizonte/eventos/festa-da-luz-letreiro-luminoso-bater-a-laje-no-ceu-da-boca-dos-nossos-sonhos/
LOCATION:Rua Sapucaí\, Floresta\, Rua Sapucaí\, Belo Horizonte\, MG\, 30150-050\, Brazil
CATEGORIES:Instalação
ATTACH;FMTTYPE=image/jpeg:https://viradasustentavel.org.br/belo-horizonte/wp-content/uploads/sites/2/2025/04/NIVEA-SABINO-por-Cadu-Passos.jpg
END:VEVENT
END:VCALENDAR