BEGIN:VCALENDAR
VERSION:2.0
PRODID:-//Virada Sustentável - Belo Horizonte - ECPv6.15.13.1//NONSGML v1.0//EN
CALSCALE:GREGORIAN
METHOD:PUBLISH
X-WR-CALNAME:Virada Sustentável - Belo Horizonte
X-ORIGINAL-URL:https://viradasustentavel.org.br/belo-horizonte
X-WR-CALDESC:Eventos para Virada Sustentável - Belo Horizonte
REFRESH-INTERVAL;VALUE=DURATION:PT1H
X-Robots-Tag:noindex
X-PUBLISHED-TTL:PT1H
BEGIN:VTIMEZONE
TZID:America/Sao_Paulo
BEGIN:STANDARD
TZOFFSETFROM:-0300
TZOFFSETTO:-0300
TZNAME:-03
DTSTART:20240101T000000
END:STANDARD
END:VTIMEZONE
BEGIN:VEVENT
DTSTART;VALUE=DATE:20250508
DTEND;VALUE=DATE:20250509
DTSTAMP:20260423T152108
CREATED:20250430T220340Z
LAST-MODIFIED:20250503T200528Z
UID:646-1746662400-1746748799@viradasustentavel.org.br
SUMMARY:Festa da Luz – Letreiro Luminoso – Kumiça Jenó/Ouvir e Falar
DESCRIPTION:Concebida originalmente para a 2ª edição da Festa da Luz de Belo Horizonte\, em 2023\, a escritora criou um poema em tupi kambeba provocando estranhamento e criando o debate da falta de conhecimento dos brasileiros das línguas dos povos originais.\nVeja o poema no original e sua tradução para o português brasileiro: \n>> KUMIÇÁ JENÓ\nKUÍRA\nSANY IKUA\nTAMA\nRITAMA\n>> Ouvir e Falar\nFilha\nVem conhecer\nCidade\nAldeia \nFicha técnica:\nTítulo: Kumiça Jenó/Ouvir e Falar\, 2023\nArtista: Márcia Kambeba (Belém dos Solimões\, Amazonas)\nDesign: Yuri Leite\nDireção artística e acervo: Festa da Luz \nA multiartista amazonense Márcia Kambeba conta histórias em diversos formatos. Ela escreve desde os 14 anos e já tem cinco livros publicados. \nArtista/Grupo: Márcia Kambeba
URL:https://viradasustentavel.org.br/belo-horizonte/eventos/festa-da-luz-letreiro-luminoso-kumica-jeno-ouvir-e-falar/
LOCATION:Em frente a A&C\, Rua Tabaiares\, 93\, Floresta Em frente a A&C\, Belo Horizonte\, MG\, 30150-040\, Brazil
CATEGORIES:Destaque,Instalação
ATTACH;FMTTYPE=image/jpeg:https://viradasustentavel.org.br/belo-horizonte/wp-content/uploads/sites/2/2025/04/MARCIA-KAMBEBA-por-Nereu-Jr._Area-de-Servico.jpg
END:VEVENT
END:VCALENDAR