BEGIN:VCALENDAR
VERSION:2.0
PRODID:-//Virada Sustentável - Belo Horizonte - ECPv6.15.13.1//NONSGML v1.0//EN
CALSCALE:GREGORIAN
METHOD:PUBLISH
X-WR-CALNAME:Virada Sustentável - Belo Horizonte
X-ORIGINAL-URL:https://viradasustentavel.org.br/belo-horizonte
X-WR-CALDESC:Eventos para Virada Sustentável - Belo Horizonte
REFRESH-INTERVAL;VALUE=DURATION:PT1H
X-Robots-Tag:noindex
X-PUBLISHED-TTL:PT1H
BEGIN:VTIMEZONE
TZID:America/Sao_Paulo
BEGIN:STANDARD
TZOFFSETFROM:-0300
TZOFFSETTO:-0300
TZNAME:-03
DTSTART:20240101T000000
END:STANDARD
END:VTIMEZONE
BEGIN:VEVENT
DTSTART;TZID=America/Sao_Paulo:20250511T100000
DTEND;TZID=America/Sao_Paulo:20250511T120000
DTSTAMP:20260423T153418
CREATED:20250502T213125Z
LAST-MODIFIED:20250503T204004Z
UID:983-1746957600-1746964800@viradasustentavel.org.br
SUMMARY:Intervenção Dona Recicla e a Srta. Biofesra
DESCRIPTION:“Dona Recicla e Senhorita Biosfera em: Vamos falar de resíduos?” fala sobre sustentabilidade\, coleta seletiva\, compostagem\, agroecologia\, logística reversa\, consumo consciente\, economia solidária e emergência climática. Dona Recicla\, uma catadora de materiais recicláveis\, descobre o seu valor como agente transformadora do ambiente ao seu redor\, separando resíduos\, reciclando e compostando. Durante sua caminhada\, ela conhece a Senhorita Biosfera\, que está preocupada com o desequilíbrio dos seus ecossistemas: terra\, água e ar\, além de questionar quais ações estão sendo feitas para cuidar melhor da Mãe Natureza.\n \nAtriz\, 44 anos\, formada pelo Teatro Universitário da UFMG em 2007. Trabalha há dezoito anos como Artista Mobilizadora Social no Grupo de Teatro Mobs\, atuando em escolas\, praças e diversos equipamentos públicos\, levando informação\, proteção social e garantia de direitos à população mais vulnerável da sociedade. Faz parte do projeto Amazônia passa aqui e recentemente criou a cena “Um Grito Verde”\, que de forma poética leva o público a refletir sobre a nossa conexão com o meio ambiente. A sua mais nova personagem\, Senhorita Biosfera\, chega para fazer um apelo aos cuidados à nossa Mãe Terra. \nArtista/Grupo: Fernanda Araújo
URL:https://viradasustentavel.org.br/belo-horizonte/eventos/intervencao-dona-recicla-e-a-srta-biofesra/
LOCATION:Rua Sapucaí\, Floresta\, Rua Sapucaí\, Belo Horizonte\, MG\, 30150-050\, Brazil
CATEGORIES:Intervenção
ATTACH;FMTTYPE=image/jpeg:https://viradasustentavel.org.br/belo-horizonte/wp-content/uploads/sites/2/2025/05/53672775076_2ac9dfa264_o-Dona-Recicla.jpg
END:VEVENT
END:VCALENDAR