BEGIN:VCALENDAR
VERSION:2.0
PRODID:-//Virada Sustentável - Belo Horizonte - ECPv6.15.13.1//NONSGML v1.0//EN
CALSCALE:GREGORIAN
METHOD:PUBLISH
X-WR-CALNAME:Virada Sustentável - Belo Horizonte
X-ORIGINAL-URL:https://viradasustentavel.org.br/belo-horizonte
X-WR-CALDESC:Eventos para Virada Sustentável - Belo Horizonte
REFRESH-INTERVAL;VALUE=DURATION:PT1H
X-Robots-Tag:noindex
X-PUBLISHED-TTL:PT1H
BEGIN:VTIMEZONE
TZID:America/Sao_Paulo
BEGIN:STANDARD
TZOFFSETFROM:-0300
TZOFFSETTO:-0300
TZNAME:-03
DTSTART:20240101T000000
END:STANDARD
END:VTIMEZONE
BEGIN:VEVENT
DTSTART;TZID=America/Sao_Paulo:20250510T100000
DTEND;TZID=America/Sao_Paulo:20250510T105000
DTSTAMP:20260423T164623
CREATED:20250502T142429Z
LAST-MODIFIED:20250503T202449Z
UID:832-1746871200-1746874200@viradasustentavel.org.br
SUMMARY:Manhãs Tranquilas | Giovane Cidreira
DESCRIPTION:Curiosidades:\n– Nascido em salvador e criado no interior da Bahia;\n– Começou a cantar ainda criança inspirado por canções sertanejas (Zezé de Camargo e Luciano\, Leandro e Leonardo);\n– Possui três discos de estúdio\, sendo dois autorais e um celebrando o compositor e sambista Ederaldo Gentil que foi lançado neste ano;\n– Sua trajetória conta com muitas parcerias musicais\, incluindo nomes como Céu\, Vandal\, Linn da Quebrada\, Liniker\, Mahal Pita\, Alice Caymmi\, Josyara\, Russo Passapusso\, Luiz Lins\, Fernando Catatau\, dentre outros;\n– Pode ser considerado um “artista dos artistas”\, como é comumente referenciado na cena musical independente\, o que já foi ratificado por declarações de Don L\, Céu\, Marina Lima\, Luiza Lian\, Linn da Quebrada\, dentre outros;\n– Sua performance visceral no palco é uma das suas características mais marcantes e cativantes. \nGiovane Cidreira é cantor e compositor baiano com profícua trajetória\, ganhou destaque nacional pela qualidade musical e performance ao vivo\, a partir do seu primeiro disco de estúdio\, Japanese Food (2017). Sua obra transita entre a tradicional canção brasileira e a world music\, e é marcada pela originalidade das composições e pela visceralidade de sua interpretação. Em 2021 lançou seu segundo disco de estúdio\, Nebulosa Baby\, que conta com uma proposta musical e visual consistente e inovadora nos diferentes formatos de sua apresentação: musical\, álbum visual\, websérie documental e shows que circularam o Brasil. Entre 2022 e 2024 lançou alguns singles com feats relevantes como Linn da Quebrada\, Russo Passapusso\, Melly e Luiz Lins nos quais o universo pop se fez mais presente nas produções. Atualmente se prepara para lançar no segundo semestre de 2025 seu quarto álbum de estúdio\, enquanto trabalha no seu último projeto “Carnaval eu chego lá” (2024)\, disco no qual Giovani interpreta pela primeira vez apenas composições de outro artista\, numa celebração ao sambista Ederaldo Gentil. O projeto ainda promete um mini documentário com previsão de lançamento para o primeiro semestre de 2026. \nArtista/Grupo: Giovani Cidreira
URL:https://viradasustentavel.org.br/belo-horizonte/eventos/manhas-tranquilas-giovane-cidreira/
LOCATION:Palco Sapucaí\, Rua Sapucaí\, Floresta\, Belo Horizonte\, MG\, 30150-050\, Brazil
CATEGORIES:Manhãs Tranquilas,Música
ATTACH;FMTTYPE=image/jpeg:https://viradasustentavel.org.br/belo-horizonte/wp-content/uploads/sites/2/2025/05/3_Giovani_Cidreira_por_Vine_Ferreira.jpg
END:VEVENT
END:VCALENDAR