BEGIN:VCALENDAR
VERSION:2.0
PRODID:-//Virada Sustentável - Belo Horizonte - ECPv6.15.13.1//NONSGML v1.0//EN
CALSCALE:GREGORIAN
METHOD:PUBLISH
X-WR-CALNAME:Virada Sustentável - Belo Horizonte
X-ORIGINAL-URL:https://viradasustentavel.org.br/belo-horizonte
X-WR-CALDESC:Eventos para Virada Sustentável - Belo Horizonte
REFRESH-INTERVAL;VALUE=DURATION:PT1H
X-Robots-Tag:noindex
X-PUBLISHED-TTL:PT1H
BEGIN:VTIMEZONE
TZID:America/Sao_Paulo
BEGIN:STANDARD
TZOFFSETFROM:-0300
TZOFFSETTO:-0300
TZNAME:-03
DTSTART:20240101T000000
END:STANDARD
END:VTIMEZONE
BEGIN:VEVENT
DTSTART;TZID=America/Sao_Paulo:20250511T100000
DTEND;TZID=America/Sao_Paulo:20250511T105000
DTSTAMP:20260423T180954
CREATED:20250502T212611Z
LAST-MODIFIED:20250503T203917Z
UID:969-1746957600-1746960600@viradasustentavel.org.br
SUMMARY:Manhãs Tranquilas | Graveola
DESCRIPTION:Graveola e o Lixo Polifônico é hoje apenas Graveola\, mas permanece sendo uma espécie de laboratório artístico coletivo que mistura gêneros\, instrumentos e arranjos sob a influência de artistas da música popular brasileira\, como Caetano Veloso\, Tom Zé\, Gilberto Gil\, Novos Baianos e Clube da Esquina. Atualmente\, a banda reúne os prolíferos artistas Joana Bentes (voz e guitarra)\, José Luiz Braga (voz)\, Amanda Barbosa (bateria) e Thiago Corrêa (baixo\, teclado e voz). \nArtista/Grupo: Graveola
URL:https://viradasustentavel.org.br/belo-horizonte/eventos/manhas-tranquilas-graveola/
LOCATION:Palco Sapucaí\, Rua Sapucaí\, Floresta\, Belo Horizonte\, MG\, 30150-050\, Brazil
CATEGORIES:Manhãs Tranquilas,Música
ATTACH;FMTTYPE=image/jpeg:https://viradasustentavel.org.br/belo-horizonte/wp-content/uploads/sites/2/2025/05/1X0A1559-1.jpg
END:VEVENT
END:VCALENDAR