BEGIN:VCALENDAR
VERSION:2.0
PRODID:-//Virada Sustentável - Belo Horizonte - ECPv6.15.13.1//NONSGML v1.0//EN
CALSCALE:GREGORIAN
METHOD:PUBLISH
X-WR-CALNAME:Virada Sustentável - Belo Horizonte
X-ORIGINAL-URL:https://viradasustentavel.org.br/belo-horizonte
X-WR-CALDESC:Eventos para Virada Sustentável - Belo Horizonte
REFRESH-INTERVAL;VALUE=DURATION:PT1H
X-Robots-Tag:noindex
X-PUBLISHED-TTL:PT1H
BEGIN:VTIMEZONE
TZID:America/Sao_Paulo
BEGIN:STANDARD
TZOFFSETFROM:-0300
TZOFFSETTO:-0300
TZNAME:-03
DTSTART:20240101T000000
END:STANDARD
END:VTIMEZONE
BEGIN:VEVENT
DTSTART;TZID=America/Sao_Paulo:20250510T110000
DTEND;TZID=America/Sao_Paulo:20250510T115000
DTSTAMP:20260423T163056
CREATED:20250502T144251Z
LAST-MODIFIED:20250503T202955Z
UID:850-1746874800-1746877800@viradasustentavel.org.br
SUMMARY:Manhãs Tranquilas | Sued Nunes
DESCRIPTION:Sued Nunes é uma cantora e compositora baiana que mergulha nas tradições da Bahia com um olhar contemporâneo\, criando uma sonoridade única que celebra a ancestralidade e a força da cultura afro-brasileira. A cantora anuncia o lançamento de “Eixo”\, via Natura Musical\, seu novo single que estará disponível em todas as plataformas no próximo dia 2 de setembro. A faixa vem acompanhada de um videoclipe dirigido por Wendel Assis\, com roteiro de Marvin Pereira\, e se apresenta como uma verdadeira homenagem a Exu\, divindade africana responsável pela abertura de caminhos na trajetória da artista. \nArtista/Grupo: Sued Nunes
URL:https://viradasustentavel.org.br/belo-horizonte/eventos/manhas-tranquilas-sued-nunes/
LOCATION:Palco Sapucaí\, Rua Sapucaí\, Floresta\, Belo Horizonte\, MG\, 30150-050\, Brazil
CATEGORIES:Destaque,Manhãs Tranquilas,Música
ATTACH;FMTTYPE=image/jpeg:https://viradasustentavel.org.br/belo-horizonte/wp-content/uploads/sites/2/2025/05/IMG_9622ps-800.jpg
END:VEVENT
END:VCALENDAR