BEGIN:VCALENDAR
VERSION:2.0
PRODID:-//Virada Sustentável - Belo Horizonte - ECPv6.15.13.1//NONSGML v1.0//EN
CALSCALE:GREGORIAN
METHOD:PUBLISH
X-WR-CALNAME:Virada Sustentável - Belo Horizonte
X-ORIGINAL-URL:https://viradasustentavel.org.br/belo-horizonte
X-WR-CALDESC:Eventos para Virada Sustentável - Belo Horizonte
REFRESH-INTERVAL;VALUE=DURATION:PT1H
X-Robots-Tag:noindex
X-PUBLISHED-TTL:PT1H
BEGIN:VTIMEZONE
TZID:America/Sao_Paulo
BEGIN:STANDARD
TZOFFSETFROM:-0300
TZOFFSETTO:-0300
TZNAME:-03
DTSTART:20240101T000000
END:STANDARD
END:VTIMEZONE
BEGIN:VEVENT
DTSTART;TZID=America/Sao_Paulo:20250511T111500
DTEND;TZID=America/Sao_Paulo:20250511T121000
DTSTAMP:20260423T163734
CREATED:20250502T213306Z
LAST-MODIFIED:20250503T204230Z
UID:985-1746962100-1746965400@viradasustentavel.org.br
SUMMARY:Manhãs Tranquilas | Tiê
DESCRIPTION:Nem toda força é bruta. Com quinze anos de carreira e milhões de visualizações em seus clipes\, Tiê canta o que mata de um jeito que salva. Se a doçura e a loucura fossem pontos opostos\, poderíamos dizer certamente que ela é fruto do que existe entre o oito e o oitenta. \nCuriosidades: dez músicas em novelas/abriu pra banda ColdPlay no Maracanã/seu nome exótico significa “sabedoria” em japonês/ela é neta de Vida Alves\, a atriz que deu o primeiro beijo na televisão brasileira. \nArtista/Grupo: Tiê
URL:https://viradasustentavel.org.br/belo-horizonte/eventos/manhas-tranquilas-tie/
LOCATION:Palco Sapucaí\, Rua Sapucaí\, Floresta\, Belo Horizonte\, MG\, 30150-050\, Brazil
CATEGORIES:Manhãs Tranquilas,Música
ATTACH;FMTTYPE=image/jpeg:https://viradasustentavel.org.br/belo-horizonte/wp-content/uploads/sites/2/2025/05/Tie_Caixa_-Fortaleza-82-1-scaled.jpg
END:VEVENT
END:VCALENDAR