BEGIN:VCALENDAR
VERSION:2.0
PRODID:-//Virada Sustentável - Belo Horizonte - ECPv6.15.13.1//NONSGML v1.0//EN
CALSCALE:GREGORIAN
METHOD:PUBLISH
X-WR-CALNAME:Virada Sustentável - Belo Horizonte
X-ORIGINAL-URL:https://viradasustentavel.org.br/belo-horizonte
X-WR-CALDESC:Eventos para Virada Sustentável - Belo Horizonte
REFRESH-INTERVAL;VALUE=DURATION:PT1H
X-Robots-Tag:noindex
X-PUBLISHED-TTL:PT1H
BEGIN:VTIMEZONE
TZID:America/Sao_Paulo
BEGIN:STANDARD
TZOFFSETFROM:-0300
TZOFFSETTO:-0300
TZNAME:-03
DTSTART:20240101T000000
END:STANDARD
END:VTIMEZONE
BEGIN:VEVENT
DTSTART;TZID=America/Sao_Paulo:20250511T123000
DTEND;TZID=America/Sao_Paulo:20250511T133000
DTSTAMP:20260423T163845
CREATED:20250502T212830Z
LAST-MODIFIED:20250503T204320Z
UID:972-1746966600-1746970200@viradasustentavel.org.br
SUMMARY:Manhãs Tranquilas | Zeca Veloso
DESCRIPTION:Zeca Veloso é cantor e compositor\, começou sua carreira musical em 2017 na turnê Ofertório\, ao lado de seu pai Caetano\, e de seus irmãos Moreno e Tom. Junto da família\, passou por palcos de muitas cidades brasileiras\, também da América Latina\, Estados Unidos e Europa\, onde foi convidado para gravar uma sessão do canal Colors\, em Berlim. Zeca chega ao palco do Tranquilo sozinho no palco\, tocando violão e piano. \nCuriosidades: sua composição\, o sucesso “Todo Homem” foi o principal single do projeto e tema de abertura da minissérie Onde nascem os fortes. Zeca teve composições gravadas por Maria Bethânia\, Gal Costa e Emanuelle Araújo. No ano de 2021 lançou uma versão de “A Rota do Indivíduo (Ferrugem)” de Djavan e Orlando Morais\, e meses depois lançou o primeiro single de sua autoria depois do fim do projeto Ofertório\, “O Sopro do Fole”\, lançado especialmente para a trilha da novela Pantanal. Em março de 2023 foi convidado por Chris Martin\, do Coldplay\, para participar de dois shows da banda no Rio\, ao lado de seus irmãos. Chris dizia\, antes de começarem a tocar “Todo Homem”\, “essa é nossa música favorita no mundo agora”. \nArtista/Grupo: Zeca Veloso
URL:https://viradasustentavel.org.br/belo-horizonte/eventos/manhas-tranquilas-zeca-veloso/
LOCATION:Palco Sapucaí\, Rua Sapucaí\, Floresta\, Belo Horizonte\, MG\, 30150-050\, Brazil
CATEGORIES:Manhãs Tranquilas,Música
ATTACH;FMTTYPE=image/jpeg:https://viradasustentavel.org.br/belo-horizonte/wp-content/uploads/sites/2/2025/05/24-ZECA-1-A000734-R1-04-32A_divulgacao.jpeg
END:VEVENT
END:VCALENDAR