BEGIN:VCALENDAR
VERSION:2.0
PRODID:-//Virada Sustentável - Belo Horizonte - ECPv6.15.13.1//NONSGML v1.0//EN
CALSCALE:GREGORIAN
METHOD:PUBLISH
X-WR-CALNAME:Virada Sustentável - Belo Horizonte
X-ORIGINAL-URL:https://viradasustentavel.org.br/belo-horizonte
X-WR-CALDESC:Eventos para Virada Sustentável - Belo Horizonte
REFRESH-INTERVAL;VALUE=DURATION:PT1H
X-Robots-Tag:noindex
X-PUBLISHED-TTL:PT1H
BEGIN:VTIMEZONE
TZID:America/Sao_Paulo
BEGIN:STANDARD
TZOFFSETFROM:-0300
TZOFFSETTO:-0300
TZNAME:-03
DTSTART:20240101T000000
END:STANDARD
END:VTIMEZONE
BEGIN:VEVENT
DTSTART;TZID=America/Sao_Paulo:20250510T100000
DTEND;TZID=America/Sao_Paulo:20250510T220000
DTSTAMP:20260423T192205
CREATED:20250502T143217Z
LAST-MODIFIED:20250503T202906Z
UID:839-1746871200-1746914400@viradasustentavel.org.br
SUMMARY:Mestre de Cerimônias – Palco Sapucaí – Darlene Valentim
DESCRIPTION:Darlene Valentim\, conhecida pelo vulgo artístico\, Vovó da ZN\, reside na Região Metropolitana de Belo Horizonte\, é cria da Vila Nossa Senhora Aparecida no bairro São João Batista. \nEla atua com versatilidade artística e profissional como diretora criativa\, cantora\, atriz\, mestre de cerimônias\, stylist\, gestora e produtora cultural\, produtora artística\, entre outros. \nVovó também é uma das fundadoras da plataforma “As Talavistas”\, um coletivo de arte independente\, que tem como objetivo\, o descobrimento e a exaltação do corpo negro LBTQIAPN+. \nA artista já passou pelos maiores palcos de Belo Horizonte\, como dos coletivos Bronka\, Baile da Kingdom\, Volume Extra\, BREEU Baile e festivais como o Toca na Favela\, Sarará\, mas também em outros eventos realizados em casas como Autêntica\, Aquilombar\, Gruta\, Casa Sapucaí\, Lab\, Mascate e Mamão com Açúcar. \nAtuou como backing vocal da cantora mineira\, Iza Sabino\, em um projetivo audiovisual\, chamado “Amar Dói”\, foi correspondente oficial da Xeque Mate Bebidas durante o Carnaval de Belo Horizonte em 2024\, e neste mesmo ano\, ela também esteve como Host oficial do renomado campeonato internacional de dança\, o “Red Bull – Dance Your Style” conduzindo as seletivas regional em Belo Horizonte e a grande seletiva final Nacional\, que aconteceu em São Paulo. \nArtista/Grupo: Darlene Valentim
URL:https://viradasustentavel.org.br/belo-horizonte/eventos/mestre-de-cerimonias-palco-sapucai-darlene-valentim/
LOCATION:Palco Sapucaí\, Rua Sapucaí\, Floresta\, Belo Horizonte\, MG\, 30150-050\, Brazil
CATEGORIES:Outros
ATTACH;FMTTYPE=image/jpeg:https://viradasustentavel.org.br/belo-horizonte/wp-content/uploads/sites/2/2025/05/Vovo-da-ZN.jpg
END:VEVENT
END:VCALENDAR