BEGIN:VCALENDAR
VERSION:2.0
PRODID:-//Virada Sustentável - Belo Horizonte - ECPv6.15.13.1//NONSGML v1.0//EN
CALSCALE:GREGORIAN
METHOD:PUBLISH
X-WR-CALNAME:Virada Sustentável - Belo Horizonte
X-ORIGINAL-URL:https://viradasustentavel.org.br/belo-horizonte
X-WR-CALDESC:Eventos para Virada Sustentável - Belo Horizonte
REFRESH-INTERVAL;VALUE=DURATION:PT1H
X-Robots-Tag:noindex
X-PUBLISHED-TTL:PT1H
BEGIN:VTIMEZONE
TZID:America/Sao_Paulo
BEGIN:STANDARD
TZOFFSETFROM:-0300
TZOFFSETTO:-0300
TZNAME:-03
DTSTART:20240101T000000
END:STANDARD
END:VTIMEZONE
BEGIN:VEVENT
DTSTART;TZID=America/Sao_Paulo:20250510T080000
DTEND;TZID=America/Sao_Paulo:20250510T173000
DTSTAMP:20260423T180435
CREATED:20250502T145225Z
LAST-MODIFIED:20250503T202312Z
UID:856-1746864000-1746898200@viradasustentavel.org.br
SUMMARY:Mural Arte Visual Urbana | Sustentasociabilidade
DESCRIPTION:Sustentasociabilidade – Nessa série\, o artista seleciona registros de trajetos (urbanos ou não)\, pelos quais passa e mostra a interação de pessoas com elementos naturais ou vinculados ao cuidado com o meio-ambiente e afins. \nArtista natural de Belo Horizonte\, presente na cena hip hop desde o começo dos anos 2000 e integrante de vários projetos dentro e fora de Minas Gerais\, dentre eles Quinto Andar\, Subsolo e Zimun\, projeto que continua atuante na cena local\, tendo predominantemente o jazz e o rap como carro-chefe. Fez do rap sua base para construir sua identidade musical e a partir daí\, navega por vários gêneros. Seu último trabalho\, lançado no final de 2020\, o álbum “Visão”\, foi produzido por Nill o Adotado e agora vem trabalhando em EPs colaborativos com vários produtores\, como o EP “De Manhã” (2023)\, em parceria com Imane Rane e “No Intervalo do Fim” (2023)\, em parceria com Goribeatzz\, Rasante\, em parceria com DJ Cizco\, Novidadedasantiga\, junto do produtor Jonas Pheer\, e agora em 2025\, o disco “Depois que a Onda Passa”\, junto do produtor Barba Negra\, além de se aventurar no universo da fotografia. \nArtista/Grupo: Matéria Prima
URL:https://viradasustentavel.org.br/belo-horizonte/eventos/mural-arte-visual-urbana-sustentasociabilidade/
LOCATION:Centro de Referência das Juventudes – CRJ\, Rua Guaicurus\, 50 – Centro\, Belo Horizonte\, MG\, 30111-060\, Brazil
CATEGORIES:Exposição
ATTACH;FMTTYPE=image/jpeg:https://viradasustentavel.org.br/belo-horizonte/wp-content/uploads/sites/2/2025/05/CREDITO_-BERNARDO-GUERREIRO-scaled.jpg
END:VEVENT
END:VCALENDAR