BEGIN:VCALENDAR
VERSION:2.0
PRODID:-//Virada Sustentável - Belo Horizonte - ECPv6.15.13.1//NONSGML v1.0//EN
CALSCALE:GREGORIAN
METHOD:PUBLISH
X-WR-CALNAME:Virada Sustentável - Belo Horizonte
X-ORIGINAL-URL:https://viradasustentavel.org.br/belo-horizonte
X-WR-CALDESC:Eventos para Virada Sustentável - Belo Horizonte
REFRESH-INTERVAL;VALUE=DURATION:PT1H
X-Robots-Tag:noindex
X-PUBLISHED-TTL:PT1H
BEGIN:VTIMEZONE
TZID:America/Sao_Paulo
BEGIN:STANDARD
TZOFFSETFROM:-0300
TZOFFSETTO:-0300
TZNAME:-03
DTSTART:20240101T000000
END:STANDARD
END:VTIMEZONE
BEGIN:VEVENT
DTSTART;TZID=America/Sao_Paulo:20250510T120000
DTEND;TZID=America/Sao_Paulo:20250510T170000
DTSTAMP:20260423T164730
CREATED:20250502T194750Z
LAST-MODIFIED:20250503T203055Z
UID:869-1746878400-1746896400@viradasustentavel.org.br
SUMMARY:Mural o Arte Visual Urbana | Raizes do Amanhã
DESCRIPTION:Lambe-Lambe – Intervenção artística – Ananda Colaa \nMulher negra e artista independente de BH. Minha jornada na arte começou com a fotografia\, mas foi na colagem digital que me encontrei\, consegui expandir meu horizonte criativo e transmitir minha visão do mundo. Fascinada pela capacidade dessa técnica de reinventar a realidade\, mesclo imagens de diferentes origens para criar composições surrealistas e evocativas\, marcadas por paletas de cores fortes e elementos afrocentrados.  \nArtista/Grupo: Ananda Colaa
URL:https://viradasustentavel.org.br/belo-horizonte/eventos/mural-o-arte-visual-urbana-raizes-do-amanha/
LOCATION:Centro de Referência das Juventudes – CRJ\, Rua Guaicurus\, 50 – Centro\, Belo Horizonte\, MG\, 30111-060\, Brazil
CATEGORIES:Artes Visuais
ATTACH;FMTTYPE=image/jpeg:https://viradasustentavel.org.br/belo-horizonte/wp-content/uploads/sites/2/2025/05/Foto-AnandaCola-scaled.jpeg
END:VEVENT
END:VCALENDAR