BEGIN:VCALENDAR
VERSION:2.0
PRODID:-//Virada Sustentável - Belo Horizonte - ECPv6.15.13.1//NONSGML v1.0//EN
CALSCALE:GREGORIAN
METHOD:PUBLISH
X-WR-CALNAME:Virada Sustentável - Belo Horizonte
X-ORIGINAL-URL:https://viradasustentavel.org.br/belo-horizonte
X-WR-CALDESC:Eventos para Virada Sustentável - Belo Horizonte
REFRESH-INTERVAL;VALUE=DURATION:PT1H
X-Robots-Tag:noindex
X-PUBLISHED-TTL:PT1H
BEGIN:VTIMEZONE
TZID:America/Sao_Paulo
BEGIN:STANDARD
TZOFFSETFROM:-0300
TZOFFSETTO:-0300
TZNAME:-03
DTSTART:20240101T000000
END:STANDARD
END:VTIMEZONE
BEGIN:VEVENT
DTSTART;TZID=America/Sao_Paulo:20250511T090000
DTEND;TZID=America/Sao_Paulo:20250511T103000
DTSTAMP:20260423T164847
CREATED:20250502T212003Z
LAST-MODIFIED:20250506T004505Z
UID:950-1746954000-1746959400@viradasustentavel.org.br
SUMMARY:Oficina de Plantio – Hortelões da Lagoinha
DESCRIPTION:Oficina de plantio: O que fazer? E não fazer? Esta oficina nasce com o objetivo de valorizar o espaço urbano e reconhecer seu valor. Vai desenvolver atividades de arte – cultura em sintonia com as vivências e conhecimentos ancestrais e da cultura popular e os princípios agroecológicos. Contribuindo para o seu cuidado\, preservação e pertencimento. A quebra de paradigmas no que se refere ao lugar da natureza na cidade.\nOficina de educação artístico-pedagógica em agroecologia: será realizada gratuitamente para crianças de 6 a 10 anos\, apresentando os princípios básicos da agroecologia\, utilizando como ferramentas educativas a arte\, poesia e brincar por meio do contato com a natureza de forma prática e imersiva\, além do cuidado com o solo.\nA sala de aula é na rua\, é na cidade. \nDuração: 1 (uma) hora\nQuantidade de crianças: 15 (quinze) \n“Hortelões da Lagoinha não sou eu não é você somos todos juntos construindo um mundo melhor pra você” (Cida Barcelos) \nCida Barcelos – Atriz formada em artes cênica (TU – Teatro Universitário)\, produtora cultural há trinta anos\, poeta\, roteirista\, jardineira\, ativista ambiental e palestrante. \nArtista/Grupo: Cida Barcelos
URL:https://viradasustentavel.org.br/belo-horizonte/eventos/oficina-de-plantio-horteloes-da-lagoinha/
LOCATION:Bairro Lagoinha\, R. Francisco Soucasseaux - Lagoinha\, Belo Horizonte\, MG\, 31210-010\, Brazil
CATEGORIES:Oficina
ATTACH;FMTTYPE=image/png:https://viradasustentavel.org.br/belo-horizonte/wp-content/uploads/sites/2/2025/05/Screenshot_20250327-190027.png
END:VEVENT
END:VCALENDAR