BEGIN:VCALENDAR
VERSION:2.0
PRODID:-//Virada Sustentável - Belo Horizonte - ECPv6.15.13.1//NONSGML v1.0//EN
CALSCALE:GREGORIAN
METHOD:PUBLISH
X-WR-CALNAME:Virada Sustentável - Belo Horizonte
X-ORIGINAL-URL:https://viradasustentavel.org.br/belo-horizonte
X-WR-CALDESC:Eventos para Virada Sustentável - Belo Horizonte
REFRESH-INTERVAL;VALUE=DURATION:PT1H
X-Robots-Tag:noindex
X-PUBLISHED-TTL:PT1H
BEGIN:VTIMEZONE
TZID:America/Sao_Paulo
BEGIN:STANDARD
TZOFFSETFROM:-0300
TZOFFSETTO:-0300
TZNAME:-03
DTSTART:20240101T000000
END:STANDARD
END:VTIMEZONE
BEGIN:VEVENT
DTSTART;TZID=America/Sao_Paulo:20250509T140000
DTEND;TZID=America/Sao_Paulo:20250509T160000
DTSTAMP:20260423T172402
CREATED:20250502T114343Z
LAST-MODIFIED:20250503T201538Z
UID:768-1746799200-1746806400@viradasustentavel.org.br
SUMMARY:Oficina sobre a importância da presença dos jovens nos espaços de participação democrática
DESCRIPTION:Em um mundo onde a voz das juventudes é fundamental para a construção de uma sociedade mais justa e igualitária\, o Coletivo Movidade convida jovens de 15 a 24 anos para participar do Workshop sobre “A Importância da Presença do Jovem nos Espaços de Participação Democrática”. \nO objetivo é promover a conscientização sobre a relevância da participação ativa dos jovens nos processos democráticos e na tomada de decisões que impactam suas vidas e comunidades. \nNeste Workshop\, você irá:\nRefletir sobre o papel dos jovens na democracia e a importância de sua voz nos espaços de decisão.\nDebater estratégias para se engajar em ações que promovam a análise crítica e o exercício da cidadania.\nExplorar caminhos para a plena participação em instâncias como conselhos municipais\, assembleias e outros grupos de decisão.\nConectar-se com outros jovens e grupos interessados em criar um futuro mais participativo e inclusivo. \nFacilitadores: O Workshop será conduzida pelos jovens do Coletivo Movidade\, especialistas em participação em conselhos e comissões\, que compartilharão experiências e conhecimentos importantes sobre participação democrática. \nSomos um Coletivo de Jovens da geração Z\, somos participantes dos programas e projetos da Rede Cidadã\, que fazem a defesa da oportunidade. Participamos e promovemos eventos externos\, presencial ou remoto (fóruns\, audiências públicas\, plenárias em conselhos\, seminários\, oficinas internas e externas\, eventos culturais\, corporativo e político\, bem como atividades também promovidas e realizadas pela Rede Cidadã. Atuamos como multiplicadores de conhecimentos\, a partir das formações recebidas pela Rede Cidadã e demais parceiros\, desenvolvendo de forma sinérgica a socialização dos conhecimentos e a proteção social básica. Realizamos oficinas\, palestras e rodas de conversa\, em equipamentos socioassistenciais\, escolas públicas e organizações sociais parceiras. Abordamos temas como: promoção e garantia dos direitos sociais e humanos; profissionalização e acesso ao mundo do trabalho; diversidades e interseccionalidades; capacitação básica em informática\, políticas públicas e espaços de participação democrática\, temas relevantes do mundo juvenil\, entre outros \nArtista/Grupo: Rede Cidadã e Coletivo Movidade
URL:https://viradasustentavel.org.br/belo-horizonte/eventos/oficina-sobre-a-importancia-da-presenca-dos-jovens-nos-espacos-de-participacao-democratica/
LOCATION:Centro de Referência das Juventudes – CRJ (Sala Multiuso)\, Rua Guaicurus\, 50 – Centro\, Belo Horizonte\, MG\, Rua Guaicurus\, 50 – Centro 30111-060\, Brazil
CATEGORIES:Oficina
ATTACH;FMTTYPE=image/jpeg:https://viradasustentavel.org.br/belo-horizonte/wp-content/uploads/sites/2/2025/05/Equipe-Movidade-Contato-Virada-Sustentavel.jpg
END:VEVENT
END:VCALENDAR