BEGIN:VCALENDAR
VERSION:2.0
PRODID:-//Virada Sustentável - Belo Horizonte - ECPv6.15.13.1//NONSGML v1.0//EN
CALSCALE:GREGORIAN
METHOD:PUBLISH
X-WR-CALNAME:Virada Sustentável - Belo Horizonte
X-ORIGINAL-URL:https://viradasustentavel.org.br/belo-horizonte
X-WR-CALDESC:Eventos para Virada Sustentável - Belo Horizonte
REFRESH-INTERVAL;VALUE=DURATION:PT1H
X-Robots-Tag:noindex
X-PUBLISHED-TTL:PT1H
BEGIN:VTIMEZONE
TZID:America/Sao_Paulo
BEGIN:STANDARD
TZOFFSETFROM:-0300
TZOFFSETTO:-0300
TZNAME:-03
DTSTART:20240101T000000
END:STANDARD
END:VTIMEZONE
BEGIN:VEVENT
DTSTART;TZID=America/Sao_Paulo:20250510T160000
DTEND;TZID=America/Sao_Paulo:20250510T165000
DTSTAMP:20260423T164847
CREATED:20250502T205340Z
LAST-MODIFIED:20250503T203607Z
UID:925-1746892800-1746895800@viradasustentavel.org.br
SUMMARY:Palestra – Arte Sustentável e seu Impacto Social
DESCRIPTION:A palestra apresentará o conceito de arte sustentável e sua aplicação em espaços urbanos\, com destaque para projetos como CURA\, Festa da Luz e MAMU. Juliana Flores compartilhará a sua experiência e visão sobre sustentabilidade em projetos artísticos. Serão apresentados os desafios e as práticas bem-sucedidas e seu impacto na sociedade. \nJuliana Flores é fundadora e curadora da @publica.art\, agência especializada em concepção e produção de projetos de arte pública. É uma das idealizadoras do @cura.art Circuito Urbano de Arte. Juliana também é diretora artística e co-realizadora de importantes projetos de arte pública como o MAMU @mamumorroartemural\, projeto de macro mural nas favelas\, @festadaluz.art festival de arte e tecnologia e do @mapa.festival projeto de arte voltado para as cidades do interior do Brasil. Além de conceber e produzir festivais de arte pública\, Juliana também trabalha para clientes diversos fazendo curadoria e direção artística de obras comissionadas e de festivais parceiros. Para Juliana\, o ponto de partida para qualquer curadoria de arte pública é o olhar atento e afetivo sobre o território. \nArtista/Grupo: Juliana Flores
URL:https://viradasustentavel.org.br/belo-horizonte/eventos/palestra-arte-sustentavel-e-seu-impacto-social/
LOCATION:Museu de Artes e Ofícios – Sala Multiuso – Prédio B\, Praça Rui Barbosa\, 600 – Centro\, Belo Horizonte\, MG\, 30160-000\, Brazil
CATEGORIES:Palestra
ATTACH;FMTTYPE=image/jpeg:https://viradasustentavel.org.br/belo-horizonte/wp-content/uploads/sites/2/2025/05/Flavio-Tavares_O-Tempo.jpg
END:VEVENT
END:VCALENDAR