BEGIN:VCALENDAR
VERSION:2.0
PRODID:-//Virada Sustentável - Belo Horizonte - ECPv6.15.13.1//NONSGML v1.0//EN
CALSCALE:GREGORIAN
METHOD:PUBLISH
X-WR-CALNAME:Virada Sustentável - Belo Horizonte
X-ORIGINAL-URL:https://viradasustentavel.org.br/belo-horizonte
X-WR-CALDESC:Eventos para Virada Sustentável - Belo Horizonte
REFRESH-INTERVAL;VALUE=DURATION:PT1H
X-Robots-Tag:noindex
X-PUBLISHED-TTL:PT1H
BEGIN:VTIMEZONE
TZID:America/Sao_Paulo
BEGIN:STANDARD
TZOFFSETFROM:-0300
TZOFFSETTO:-0300
TZNAME:-03
DTSTART:20240101T000000
END:STANDARD
END:VTIMEZONE
BEGIN:VEVENT
DTSTART;TZID=America/Sao_Paulo:20250510T100000
DTEND;TZID=America/Sao_Paulo:20250510T105000
DTSTAMP:20260423T195815
CREATED:20250502T132109Z
LAST-MODIFIED:20250503T202406Z
UID:829-1746871200-1746874200@viradasustentavel.org.br
SUMMARY:Palestra – É possível fazer diferente: novas formas de produzir eventos
DESCRIPTION:Nessa palestra\, Ana Cecília Assis\, destaca a importância da humanização das pessoas envolvidas nas diversas áreas da produção. “Muitas vezes\, no processo desgastante de produção\, esquecemos que eventos são feitos PARA pessoas e POR pessoas. Cada pessoa um mundo\, cada pessoa uma particularidade.” Essa palestra tem como objetivo levar aos ouvintes a importância da gestão de tempo\, processos\, fornecedores e profissionais para que todo evento seja multiplicador de capital humano. \nAna Cecília Assis é mineira de Belo Horizonte\, relações públicas\, produtora cultural\, apaixonada por música\, cultura\, livros e viagens. É uma provocadora e ativista das causas negras\, criadora de conteúdo e apaixonada por moda\, atua na área cultural há cerca de onze anos e tem como meta de vida possibilitar pontes e conexões. \nArtista/Grupo: Ana Cecília Assis
URL:https://viradasustentavel.org.br/belo-horizonte/eventos/palestra-e-possivel-fazer-diferente-novas-formas-de-produzir-eventos/
LOCATION:Museu de Artes e Ofícios – Sala Multiuso – Prédio B\, Praça Rui Barbosa\, 600 – Centro\, Belo Horizonte\, MG\, 30160-000\, Brazil
CATEGORIES:Palestra
ATTACH;FMTTYPE=image/jpeg:https://viradasustentavel.org.br/belo-horizonte/wp-content/uploads/sites/2/2025/05/Iago-Henrik.jpg
END:VEVENT
END:VCALENDAR