BEGIN:VCALENDAR
VERSION:2.0
PRODID:-//Virada Sustentável - Belo Horizonte - ECPv6.15.13.1//NONSGML v1.0//EN
CALSCALE:GREGORIAN
METHOD:PUBLISH
X-WR-CALNAME:Virada Sustentável - Belo Horizonte
X-ORIGINAL-URL:https://viradasustentavel.org.br/belo-horizonte
X-WR-CALDESC:Eventos para Virada Sustentável - Belo Horizonte
REFRESH-INTERVAL;VALUE=DURATION:PT1H
X-Robots-Tag:noindex
X-PUBLISHED-TTL:PT1H
BEGIN:VTIMEZONE
TZID:America/Sao_Paulo
BEGIN:STANDARD
TZOFFSETFROM:-0300
TZOFFSETTO:-0300
TZNAME:-03
DTSTART:20240101T000000
END:STANDARD
END:VTIMEZONE
BEGIN:VEVENT
DTSTART;TZID=America/Sao_Paulo:20250510T110000
DTEND;TZID=America/Sao_Paulo:20250510T115000
DTSTAMP:20260423T195730
CREATED:20250502T143755Z
LAST-MODIFIED:20250503T202925Z
UID:847-1746874800-1746877800@viradasustentavel.org.br
SUMMARY:Palestra – Economia Circular em eventos e projetos
DESCRIPTION:Victor Magalhães é produtor e gestor cultural negro\, com grande atuação em projetos de Cultura Urbana e projetos de música. Idealizador e coordenador do projeto Palco Hip Hop. Considerado um dos maiores festivais de Hip Hop do Brasil. Do projeto MAPP (Mostra de Arte Preta Periférica) atuou e atua em diversos festivais e projetos de relevância nacional\, como o festival de Arte Negra de Belo Horizonte\, o festival Internacional de teatro de Belo Horizonte\, Festejo do Tambor Mineiro\, Virada Cultural de Belo Horizonte dentre outros. Foi coordenador de produção de vários projetos da Família de Rua\, como o Duelo Nacional de Mc’s de 2012 a 2018 e o Duelo nas Quebradas de 2015 a 2018\, e o CD “O Som que Vem das Ruas”. Multifacetado\, idealizador de projetos que trazem o diálogo com as artes periféricas e as pautas raciais\, sempre atento ao trabalho de artistas\, e agentes que estão nas periferias dos circuitos consagrados culturais promovendo debates importantes para a cena cultural. Atuou como produtor executivo da campanha da deputada federal Célia Xakriabá\, a primeira deputada federal índígena eleita por Minas Gerais. Coordenador de projetos do Grupo Cultural do Gueto\, entidade com trabalho sociocultural de 28 anos\, atuante no Morro das Pedras\, Zona Oeste de Belo Horizonte. Integra a gestão e diretoria do instituto Aya de Arte e Cultura Negra e Periférica\, entidade voltada ao desenvolvimento de ações que promovam e fortaleçam a presença negra em todas as dimensões da arte e da cultura no estado de Minas Gerais. Está como Coordenador do CRC URB – Centro de Referência das Culturas Urbanas – Viaduto Santa Tereza de Belo Horizonte. \nArtista/Grupo: Victor Magalhães
URL:https://viradasustentavel.org.br/belo-horizonte/eventos/palestra-economia-circular-em-eventos-e-projetos/
LOCATION:Museu de Artes e Ofícios – Sala Multiuso – Prédio B\, Praça Rui Barbosa\, 600 – Centro\, Belo Horizonte\, MG\, 30160-000\, Brazil
CATEGORIES:Palestra
ATTACH;FMTTYPE=image/jpeg:https://viradasustentavel.org.br/belo-horizonte/wp-content/uploads/sites/2/2025/05/Foto-de-Victor-Magalhaes-credito-Pablo-Bernardo.jpg
END:VEVENT
END:VCALENDAR