BEGIN:VCALENDAR
VERSION:2.0
PRODID:-//Virada Sustentável - Belo Horizonte - ECPv6.15.13.1//NONSGML v1.0//EN
CALSCALE:GREGORIAN
METHOD:PUBLISH
X-WR-CALNAME:Virada Sustentável - Belo Horizonte
X-ORIGINAL-URL:https://viradasustentavel.org.br/belo-horizonte
X-WR-CALDESC:Eventos para Virada Sustentável - Belo Horizonte
REFRESH-INTERVAL;VALUE=DURATION:PT1H
X-Robots-Tag:noindex
X-PUBLISHED-TTL:PT1H
BEGIN:VTIMEZONE
TZID:America/Sao_Paulo
BEGIN:STANDARD
TZOFFSETFROM:-0300
TZOFFSETTO:-0300
TZNAME:-03
DTSTART:20240101T000000
END:STANDARD
END:VTIMEZONE
BEGIN:VEVENT
DTSTART;TZID=America/Sao_Paulo:20250510T140000
DTEND;TZID=America/Sao_Paulo:20250510T145000
DTSTAMP:20260423T182141
CREATED:20250502T201151Z
LAST-MODIFIED:20250503T203237Z
UID:879-1746885600-1746888600@viradasustentavel.org.br
SUMMARY:Palestra – Sustentabilidade em Eventos
DESCRIPTION:Com mais de 590 mil eventos realizados por ano no Brasil e um mercado que movimenta cerca de R$ 330 bilhões (Sebrae/ABEOC)\, o setor de eventos tem um impacto gigantesco — tanto positivo quanto negativo. Nesta palestra\, André Menezes\, fundador da Baanko\, mostra como unir criatividade\, inovação e inteligência artificial para transformar eventos em plataformas de impacto socioambiental real. Compartilhando bastidores de grandes produções e soluções práticas\, ele discute como mensurar o que realmente importa\, potencializando o que gera valor e mitigando o que deixa cicatrizes no planeta. \nEmpreendedor de impacto e idealizador da Baanko (baanko.com.br) que promove impacto como valor nos negócios por meio de programas de desenvolvimento e investimento em Negócios de Impacto\, com foco nos ODS (Objetivos de Desenvolvimento Sustentável). Professor na Fundação Dom Cabral\, presidente voluntário do Instituto Um Pé de Biblioteca (umpedebiblioteca.org)\, membro do comitê da SDSN Brasil (Rede de Soluções para o Desenvolvimento Sustentável da ONU)\, gestor do grupo de investidores de impacto FDC Angels (fdcangels.vc) e conselheiro do projeto de formação de programadores negros Programadores do Amanhã (programadoresdoamanha.org). Engenheiro eletricista de formação\, atuou como executivo em grandes empresas. Pai da Ester. \nArtista/Grupo: André Menezes \n 
URL:https://viradasustentavel.org.br/belo-horizonte/eventos/palestra-sustentabilidade-em-eventos/
LOCATION:Museu de Artes e Ofícios – Sala Multiuso – Prédio B\, Praça Rui Barbosa\, 600 – Centro\, Belo Horizonte\, MG\, 30160-000\, Brazil
CATEGORIES:Palestra
ATTACH;FMTTYPE=image/jpeg:https://viradasustentavel.org.br/belo-horizonte/wp-content/uploads/sites/2/2025/05/Andre-Menezes_acervo-pessoal.jpg
END:VEVENT
END:VCALENDAR