BEGIN:VCALENDAR
VERSION:2.0
PRODID:-//Virada Sustentável - Belo Horizonte - ECPv6.15.13.1//NONSGML v1.0//EN
CALSCALE:GREGORIAN
METHOD:PUBLISH
X-WR-CALNAME:Virada Sustentável - Belo Horizonte
X-ORIGINAL-URL:https://viradasustentavel.org.br/belo-horizonte
X-WR-CALDESC:Eventos para Virada Sustentável - Belo Horizonte
REFRESH-INTERVAL;VALUE=DURATION:PT1H
X-Robots-Tag:noindex
X-PUBLISHED-TTL:PT1H
BEGIN:VTIMEZONE
TZID:America/Sao_Paulo
BEGIN:STANDARD
TZOFFSETFROM:-0300
TZOFFSETTO:-0300
TZNAME:-03
DTSTART:20240101T000000
END:STANDARD
END:VTIMEZONE
BEGIN:VEVENT
DTSTART;TZID=America/Sao_Paulo:20250510T100000
DTEND;TZID=America/Sao_Paulo:20250510T120000
DTSTAMP:20260423T151829
CREATED:20250502T124837Z
LAST-MODIFIED:20250503T202522Z
UID:813-1746871200-1746878400@viradasustentavel.org.br
SUMMARY:Performance Caminhos das Águas
DESCRIPTION:Caminhada pelas ruas de Belo Horizonte com a artista Isabela Prado – idealizadora do projeto Entre Rios e Ruas – seguindo o trajeto de um ou mais córregos invisibilizados na área central da cidade. Ao longo do percurso\, a artista conversa com os participantes a respeito desses cursos d’água e das características da intervenção “Sobre o rio”\, que desde 2020 sinaliza os córregos dentro do perímetro da Av. do Contorno. \nPonto de partida:\nRua Professor Morais\, esquina com Rua Antônio de Albuquerque. \nRoteiro da caminhada:\n– Rua Professor Morais\, entre Rua Antônio de Albuquerque e Av. Afonso Pena;\n– Av. Afonso Pena\, entre Rua Professor Morais e Av. Álvares Cabral;\n– Entrada no Parque Municipal\, e caminhada no interior do parque\, em direção ao Córrego Acaba-Mundo. \nParadas:\n– Rua Professor Morais\, esquina com Av. Getulio Vargas;\n– “Esquina de rio”: Rua Pernambuco\, esquina com Av. Afonso Pena. \nPonto de chegada:\n– Centro Operacional do Parque Municipal. \nDistância: aproximadamente 2 km\nDuração prevista: de 10h às 12h \nIsabela Prado é artista visual e professora da UFMG; idealizadora do projeto Entre Rios e Ruas. \nArtista/Grupo: Isabela Prado
URL:https://viradasustentavel.org.br/belo-horizonte/eventos/performance-caminhos-das-aguas/
LOCATION:Córrego Acaba Mundo\, Rua Professor Moraes\, 656 – Funcionários\, Belo Horizonte\, MG\, 30112-010\, Brazil
CATEGORIES:Multidisciplinar
ATTACH;FMTTYPE=image/jpeg:https://viradasustentavel.org.br/belo-horizonte/wp-content/uploads/sites/2/2025/05/foto-Isabela-Prado-sobre-o-rio-Isabela-Prado.jpeg
END:VEVENT
END:VCALENDAR