BEGIN:VCALENDAR
VERSION:2.0
PRODID:-//Virada Sustentável - Belo Horizonte - ECPv6.15.13.1//NONSGML v1.0//EN
CALSCALE:GREGORIAN
METHOD:PUBLISH
X-WR-CALNAME:Virada Sustentável - Belo Horizonte
X-ORIGINAL-URL:https://viradasustentavel.org.br/belo-horizonte
X-WR-CALDESC:Eventos para Virada Sustentável - Belo Horizonte
REFRESH-INTERVAL;VALUE=DURATION:PT1H
X-Robots-Tag:noindex
X-PUBLISHED-TTL:PT1H
BEGIN:VTIMEZONE
TZID:America/Sao_Paulo
BEGIN:STANDARD
TZOFFSETFROM:-0300
TZOFFSETTO:-0300
TZNAME:-03
DTSTART:20240101T000000
END:STANDARD
END:VTIMEZONE
BEGIN:VEVENT
DTSTART;TZID=America/Sao_Paulo:20250510T160000
DTEND;TZID=America/Sao_Paulo:20250510T170000
DTSTAMP:20260423T164848
CREATED:20250502T205735Z
LAST-MODIFIED:20250503T203641Z
UID:930-1746892800-1746896400@viradasustentavel.org.br
SUMMARY:Revolixão – O Mistério das Águas
DESCRIPTION:Revolixão – O Mistério das Águas conta a história de uma tripulação formada por sua capitã e seus marujos. Eles percorrem o Rio das Velhas em busca de Norberto – O Grande Monstro das Águas – para impedi-lo de continuar poluindo os rios\, pois as navegações estão cada vez mais difíceis. Nesta aventura\, eles contarão com a ajuda de personagens típicos do folclore brasileiro que também querem proteger o meio ambiente. Mas\, esta viagem guarda muitos segredos\, mistérios e surpresas… Será que eles conseguirão encontrar o Grande Monstro das Águas e salvar a natureza das forças ocultas que vem lhe agredindo? Venha navegar com a gente nesta jornada e nos ajude a cuidar do nosso planeta. \nA Cia. Teatral Solares é um grupo formado por artistas luzienses que se reuniram em prol da arte e cultura na nossa cidade\, apresentando espetáculos teatrais infantis e adultos\, intervenções cênicas e circenses com temáticas variadas. \nA Cia. tem atuação marcante na cena cultural de Minas Gerais\, levando o nome de Santa Luzia para várias regiões do nosso estado\, trazendo como reconhecimento pela qualidade do trabalho prestado\, vários prêmios e indicações na bagagem. \nDentre os eventos que a Cia. Teatral Solares teve participação ativa\, podemos destacar: Festival Nacional de Artes Cênicas de Conselheiro Lafaiete/MG (FACE)\, Festival Regional de Teatro de Rio Espera/MG\, Festival de Inverno de São Gonçalo do Bação (Itabirito/MG)\, Festival de Teatro de Senhora de Oliveira/MG\, Festival de Teatro de Ponte Nova/MG\, Festival Nacional de Teatro de Guaçuí/ES\, Aniversário do Atelier de Artes Integradas de Itabirito/MG\, Festival Estudantil de Teatro de Belo Horizonte FETO (BH/MG) e participação na Campanha de Popularização do Teatro e da Dança de Belo Horizonte em diversas ocasiões sendo agraciada com premiações e condecorações por onde passa. \nHoje a Cia. é administradora da Casa de Artes Solares\, uma casa que acolhe e incentiva toda a pujante arte de Santa Luzia. \nArtista/Grupo: Cia Teatral Solares \n 
URL:https://viradasustentavel.org.br/belo-horizonte/eventos/revolixao-o-misterio-das-aguas/
LOCATION:Rua Sapucaí\, Floresta\, Rua Sapucaí\, Belo Horizonte\, MG\, 30150-050\, Brazil
CATEGORIES:Teatro
ATTACH;FMTTYPE=image/jpeg:https://viradasustentavel.org.br/belo-horizonte/wp-content/uploads/sites/2/2025/05/20062024_revolixao_-Escola-Municipal-Etevilno-Sousa-Lima_Foto-Ane-Souz_0A8A9550.jpg
END:VEVENT
END:VCALENDAR