BEGIN:VCALENDAR
VERSION:2.0
PRODID:-//Virada Sustentável - Belo Horizonte - ECPv6.15.13.1//NONSGML v1.0//EN
CALSCALE:GREGORIAN
METHOD:PUBLISH
X-WR-CALNAME:Virada Sustentável - Belo Horizonte
X-ORIGINAL-URL:https://viradasustentavel.org.br/belo-horizonte
X-WR-CALDESC:Eventos para Virada Sustentável - Belo Horizonte
REFRESH-INTERVAL;VALUE=DURATION:PT1H
X-Robots-Tag:noindex
X-PUBLISHED-TTL:PT1H
BEGIN:VTIMEZONE
TZID:America/Sao_Paulo
BEGIN:STANDARD
TZOFFSETFROM:-0300
TZOFFSETTO:-0300
TZNAME:-03
DTSTART:20240101T000000
END:STANDARD
END:VTIMEZONE
BEGIN:VEVENT
DTSTART;TZID=America/Sao_Paulo:20250509T180000
DTEND;TZID=America/Sao_Paulo:20250509T190000
DTSTAMP:20260423T153141
CREATED:20250502T121805Z
LAST-MODIFIED:20250503T202053Z
UID:790-1746813600-1746817200@viradasustentavel.org.br
SUMMARY:Sarau das Cachorras
DESCRIPTION:O Sarau das Cachorras – “Café com flores ” vem consagrar o espaço como ponto de cultura\, lazer e bem-estar. A poesia cura\, conforta. Uma pequena mesa com café\, chás\, quitutes de Minas e flores colhidas do jardim\, resgata os sabores de Minas e o jeito mineiro de receber com carinho. Cida Barcelos e os Hortelões da Lagoinha apresentam Geni em “O jardim onde Moro”. Geni é Joana\, a jardineira e contadora de história\, uma é a outra ao mesmo tempo. Viajando no tempo da construção do seu jardim\, seu corpo e o lugar misturam-se de forma poética\, trazendo à tona \, lembranças do tempo. É boêmia\, é a Lagoinha uma história real\, verdadeira.\nPerformance com duração de 30 minutos. Logo após\, Geni convida o público para entrar na roda da poesia.\nDuração total: 1 (uma) hora. \nCida Barcelos – Atriz formada em Artes Cênicas (TU – Teatro Universitário)\, produtora cultural há trinta anos\, poeta\, roteirista\, jardineira\, ativista ambiental e palestrante. \nArtista/Grupo: Cida Barcelos
URL:https://viradasustentavel.org.br/belo-horizonte/eventos/sarau-das-cachorras/
LOCATION:Museu de Artes e Ofícios\, Praça Rui Barbosa\, 600 – Centro\, Belo Horizonte\, MG\, 30160-000\, Brazil
CATEGORIES:Intervenção
ATTACH;FMTTYPE=image/jpeg:https://viradasustentavel.org.br/belo-horizonte/wp-content/uploads/sites/2/2025/05/WhatsApp-Image-2025-04-29-at-18.16.02-2.jpeg
END:VEVENT
END:VCALENDAR