BEGIN:VCALENDAR
VERSION:2.0
PRODID:-//Virada Sustentável - Belo Horizonte - ECPv6.15.13.1//NONSGML v1.0//EN
CALSCALE:GREGORIAN
METHOD:PUBLISH
X-WR-CALNAME:Virada Sustentável - Belo Horizonte
X-ORIGINAL-URL:https://viradasustentavel.org.br/belo-horizonte
X-WR-CALDESC:Eventos para Virada Sustentável - Belo Horizonte
REFRESH-INTERVAL;VALUE=DURATION:PT1H
X-Robots-Tag:noindex
X-PUBLISHED-TTL:PT1H
BEGIN:VTIMEZONE
TZID:America/Sao_Paulo
BEGIN:STANDARD
TZOFFSETFROM:-0300
TZOFFSETTO:-0300
TZNAME:-03
DTSTART:20240101T000000
END:STANDARD
END:VTIMEZONE
BEGIN:VEVENT
DTSTART;TZID=America/Sao_Paulo:20250509T193000
DTEND;TZID=America/Sao_Paulo:20250509T203000
DTSTAMP:20260423T163850
CREATED:20250502T122307Z
LAST-MODIFIED:20250503T202241Z
UID:795-1746819000-1746822600@viradasustentavel.org.br
SUMMARY:Sempre um Papo convida Sérgio Abranches
DESCRIPTION:Sempre Um Papo realiza conversa com Sérgio Abranches na Virada Sustentável de BH \nA convite da Virada Sustentável de Belo Horizonte\, o Sempre Um Papo recebe o escritor e politólogo Sérgio Abranches para falar sobre o tema “Literatura\, Sustentabilidade e Meio Ambiente”. A conversa\, sob a mediação do jornalista Afonso Borges\, acontece no dia 9 de maio\, sexta-feira\, às 19h30\, na Sala Juvenal Dias do Palácio das Artes. Depois\, o autor participa de uma sessão de autógrafos para o público presente. O evento tem entrada gratuita. Colunista político\, Sérgio Abranches estuda os desafios contemporâneos causados pelo avanço simultâneo e entrelaçado da digitalização\, da globalização e da mudança científica e tecnológica. Ele é mestre em Sociologia pela Universidade de Brasília\, além de mestre e PhD em Ciência Política e Sociologia Comparada\, pela Universidade Cornell\, nos Estados Unidos. Sérgio Abranches é autor dos romances O intérprete de borboletas; Que mistério tem Clarice? e O pelo negro do medo. Além disso\, ele escreveu livros de não-ficção sobre sociedade e política\, como No tempo dos governantes incidentais; Presidencialismo de coalizão: raízes e evolução do modelo político brasileiro (finalista do Prêmio Jabuti na categoria Ensaio/Humanidades) e A era do imprevisto: a grande transição do século XXI (vencedor do Prêmio Literário Nacional PEN Clube do Brasil).\nO Sempre Um Papo é uma associação cultural que busca incorporar\, em sua prática\, os Objetivos de Desenvolvimento Sustentável\, traçados pela Organização das Nações Unidas. Sendo assim\, todos os festivais literários promovidos pela associação – isto é\, Fliaraxá\, Flitabira\, Fliparacatu e Flipetrópolis – compensam suas emissões de carbono\, por meio do plantio de árvores. Além disso\, em suas mais recentes edições\, os festivais promovidos pelo Sempre Um Papo firmaram convênio com o Instituto Terra\, que se dedica principalmente ao reflorestamento da Mata Atlântica no Vale do Rio Doce. Assim\, além do plantio de árvores\, o convênio prevê o cultivo de plantas nativas – fundamentais para a regeneração do meio ambiente e proteção da biodiversidade –\, e ainda investe na educação ambiental\, para a formação de jovens profissionais especializados.\nSaiba mais sobre o Sempre Um Papo: criado em Belo Horizonte\, em 1986\, pelo jornalista Afonso Borges\, o Sempre Um Papo é um projeto cultural que realiza encontros entre importantes nomes da literatura e personalidades nacionais e internacionais com o público\, ao vivo\, em auditórios e teatros. Ao longo de sua trajetória\, o projeto já aconteceu em trinta cidades e promoveu mais de 8 mil eventos\, que reuniram um público superior a 2 milhões de pessoas. Além disso\, o projeto também promove encontros virtuais com escritores\, em seu canal no YouTube\, que atualmente conta com mais de 1.600 programas\, constituindo-se no maior e mais relevante acervo virtual da literatura brasileira.\nServiço:\nSempre Um Papo com Sérgio Abranches na Virada Sustentável\, dia 9/05\, sexta-feira\, às 19h30.\nLocal: Sala Juvenal Dias\, no Palácio das Artes (Av. Afonso Pena\, 1537\, Centro). Entrada gratuita \nSérgio Abranches é politólogo e escritor\, mestre em Sociologia pela Universidade de Brasília\, além de mestre e PhD em Ciência Política e Sociologia Comparada\, pela Universidade Cornell\, nos Estados Unidos. Colunista político dos jornais Estado de Minas e Correio Braziliense\, ele é autor de diversos livros de não-ficção sobre sociedade e política. Entre eles\, No tempo dos governantes incidentais; Presidencialismo de coalizão: raízes e evolução do modelo político brasileiro (finalista do Prêmio Jabuti na categoria Ensaio/Humanidades) e A era do imprevisto: a grande transição do século XXI (vencedor do Prêmio Literário Nacional PEN Clube do Brasil). Além disso\, ele é autor dos romances O intérprete de borboletas; Que mistério tem Clarice? e O pelo negro do medo. \nArtista/Grupo: Sérgio Abranches
URL:https://viradasustentavel.org.br/belo-horizonte/eventos/sempre-um-papo-convida-sergio-abranches/
LOCATION:Palácio das Artes – Juvenal Dias\, Av. Afonso Pena\, 1537 – Centro\, Belo Horizonte\, 30120-010\, 30120-010\, Brazil
CATEGORIES:Fórum Virada Sustentável
ATTACH;FMTTYPE=image/jpeg:https://viradasustentavel.org.br/belo-horizonte/wp-content/uploads/sites/2/2025/05/SERGIO_ABRANCHES-FOTO-@bleia_-scaled.jpg
END:VEVENT
END:VCALENDAR