BEGIN:VCALENDAR
VERSION:2.0
PRODID:-//Virada Sustentável - Belo Horizonte - ECPv6.15.13.1//NONSGML v1.0//EN
CALSCALE:GREGORIAN
METHOD:PUBLISH
X-WR-CALNAME:Virada Sustentável - Belo Horizonte
X-ORIGINAL-URL:https://viradasustentavel.org.br/belo-horizonte
X-WR-CALDESC:Eventos para Virada Sustentável - Belo Horizonte
REFRESH-INTERVAL;VALUE=DURATION:PT1H
X-Robots-Tag:noindex
X-PUBLISHED-TTL:PT1H
BEGIN:VTIMEZONE
TZID:America/Sao_Paulo
BEGIN:STANDARD
TZOFFSETFROM:-0300
TZOFFSETTO:-0300
TZNAME:-03
DTSTART:20240101T000000
END:STANDARD
END:VTIMEZONE
BEGIN:VEVENT
DTSTART;TZID=America/Sao_Paulo:20250510T210000
DTEND;TZID=America/Sao_Paulo:20250511T030000
DTSTAMP:20260423T150159
CREATED:20250506T005302Z
LAST-MODIFIED:20250506T005302Z
UID:1377-1746910800-1746932400@viradasustentavel.org.br
SUMMARY:Telecurso 2000
DESCRIPTION:A festa Telecurso 2000 é um mergulho sonoro nos ritmos que marcaram os anos 2000 – uma época vibrante\, diversa e inesquecível da música popular. Comandada por DJs que entendem a pista e sabem ativar a memória afetiva do público\, a noite reúne uma curadoria rica e dançante de estilos como pop\, funk\, hip hop\, pagode\, axé\, sertanejo\, R&B\, rock alternativo\, electro e os clássicos do emo e pop punk. Cada set é pensado para reviver os momentos mais icônicos da década – dos hits que dominaram rádios e programas de TV até as faixas que viralizaram nas festas e nas pistas. Ideal para quem viveu os anos 2000 intensamente e para quem quer sentir essa energia pela primeira vez. Do início ao after\, a pista é uma verdadeira sala de aula de nostalgia\, beats e celebração. \nTelecurso 2000 – A aula mais gostosa que você não vai perder!\nUma viagem sonora pelos anos 2000 com hits de funk\, pop\, emo\, axé\, pagode\, sertanejo\, hip hop e muito mais. Aqui\, a nostalgia bate forte e o rebolado é livre.\nChega de EAD: a gente quer bagunça\, coreografia e gritaria no refrão. \nArtista/Grupo: Telecurso 2000
URL:https://viradasustentavel.org.br/belo-horizonte/eventos/telecurso-2000/
LOCATION:Casa Sapucaí\, Rua Sapucaí\, 303 – Floresta\, Belo Horizonte\, MG\, 30150-050\, Brazil
CATEGORIES:Música
ATTACH;FMTTYPE=image/jpeg:https://viradasustentavel.org.br/belo-horizonte/wp-content/uploads/sites/2/2025/05/SAPUCAI17220215-Diego-Fernandes.jpg
END:VEVENT
END:VCALENDAR