BEGIN:VCALENDAR
VERSION:2.0
PRODID:-//Virada Sustentável - Belo Horizonte - ECPv6.15.13.1//NONSGML v1.0//EN
CALSCALE:GREGORIAN
METHOD:PUBLISH
X-WR-CALNAME:Virada Sustentável - Belo Horizonte
X-ORIGINAL-URL:https://viradasustentavel.org.br/belo-horizonte
X-WR-CALDESC:Eventos para Virada Sustentável - Belo Horizonte
REFRESH-INTERVAL;VALUE=DURATION:PT1H
X-Robots-Tag:noindex
X-PUBLISHED-TTL:PT1H
BEGIN:VTIMEZONE
TZID:America/Sao_Paulo
BEGIN:STANDARD
TZOFFSETFROM:-0300
TZOFFSETTO:-0300
TZNAME:-03
DTSTART:20240101T000000
END:STANDARD
END:VTIMEZONE
BEGIN:VEVENT
DTSTART;TZID=America/Sao_Paulo:20250511T100000
DTEND;TZID=America/Sao_Paulo:20250511T133000
DTSTAMP:20260423T180659
CREATED:20250502T212108Z
LAST-MODIFIED:20250503T204048Z
UID:954-1746957600-1746970200@viradasustentavel.org.br
SUMMARY:Tweed Ride BH – Edição Dia das Mães no Outono Sustentável
DESCRIPTION:Belo Horizonte recebe mais uma edição do Tweed Ride BH – Edição Dia das Mães no Outono Sustentável \nBelo Horizonte se prepara para receber mais uma edição do Tweed Ride BH – Edição Dia das Mães no Outono Sustentável\, evento que integra a programação da Virada Sustentável 2025. Unindo história\, cultura e mobilidade sustentável\, o passeio ciclístico inspirado nos tradicionais Tweed Rides internacionais convida os participantes a resgatar o charme do ciclismo clássico\, vestindo figurinos que remetem aos anos 40 e pedalando em bicicletas antigas pelas ruas da capital mineira. O evento propõe um novo olhar sobre a celebração do Dia das Mães\, incentivando momentos de lazer\, liberdade e bem-estar. Em vez dos tradicionais estereótipos associados à data\, o pedal se apresenta como uma opção leve e inclusiva\, promovendo a saúde e a socialização. Mães de todas as idades e experiências podem participar\, acompanhadas de filhos\, amigos e familiares\, fortalecendo laços e criando memórias especiais. Para tornar o dia ainda mais aconchegante\, o passeio será seguido de um café comunitário. Com um trajeto de aproximadamente 5 km\, o percurso foi cuidadosamente planejado para ser acessível a todos\, incluindo crianças e idosos. Além de valorizar a mobilidade ativa\, o evento reforça princípios de sustentabilidade ao incentivar a reutilização de roupas de brechós e a recuperação de bicicletas clássicas\, promovendo o consumo consciente e a economia circular. O ponto de encontro será o Instituto Undió/Nessa Rua Tem um Rio\, no centro de Belo Horizonte. Coordenado pelas artistas plásticas Julia e Thereza Portes\, o instituto atua há trinta anos promovendo educação através da arte e iniciativas de intervenção urbana. Como parte do evento\, os participantes serão convidados a compartilhar um café comunitário\, em que cada um leva sua própria xícara\, reforçando a ideia de pertencimento e convivência. O Tweed Ride BH – Edição Outono Sustentável é uma experiência que resgata a história da cidade\, das mães atuais e do passado\, promove a mobilidade sustentável e fortalece a cultura local. Prepare sua bicicleta clássica\, vista seu melhor traje vintage e venha pedalar conosco por um Belo Horizonte cheio de histórias para contar! \nO Tweed Ride BH é um evento que acontece apenas duas vezes por ano\, desde 2013 e que celebra o charme e a elegância do ciclismo clássico\, trazendo para as ruas da cidade um passeio nostálgico repleto de história e cultura. Inspirado nos tradicionais Tweed Rides que acontecem pelo mundo\, o evento convida os participantes a vestirem figurinos que remetem aos anos 40 e a pedalarem em bicicletas antigas\, promovendo um retorno ao passado. \nArtista/Grupo: Ciclonavegantes
URL:https://viradasustentavel.org.br/belo-horizonte/eventos/tweed-ride-bh-edicao-dia-das-maes-no-outono-sustentavel/
LOCATION:Instituto Undió\, Rua Padre Belchior\, 280 – Centro\, Belo Horizonte\, Minas Gerais\, 30190-070\, Brazil
CATEGORIES:Multidisciplinar
ATTACH;FMTTYPE=image/jpeg:https://viradasustentavel.org.br/belo-horizonte/wp-content/uploads/sites/2/2025/05/53069603033_7f87518883_c-Gil-Sotero.jpg
END:VEVENT
END:VCALENDAR