BEGIN:VCALENDAR
VERSION:2.0
PRODID:-//Virada Sustentável - Belo Horizonte - ECPv6.15.13.1//NONSGML v1.0//EN
CALSCALE:GREGORIAN
METHOD:PUBLISH
X-WR-CALNAME:Virada Sustentável - Belo Horizonte
X-ORIGINAL-URL:https://viradasustentavel.org.br/belo-horizonte
X-WR-CALDESC:Eventos para Virada Sustentável - Belo Horizonte
REFRESH-INTERVAL;VALUE=DURATION:PT1H
X-Robots-Tag:noindex
X-PUBLISHED-TTL:PT1H
BEGIN:VTIMEZONE
TZID:America/Sao_Paulo
BEGIN:STANDARD
TZOFFSETFROM:-0300
TZOFFSETTO:-0300
TZNAME:-03
DTSTART:20240101T000000
END:STANDARD
END:VTIMEZONE
BEGIN:VEVENT
DTSTART;TZID=America/Sao_Paulo:20250508T100000
DTEND;TZID=America/Sao_Paulo:20250508T120000
DTSTAMP:20260423T151247
CREATED:20250501T171930Z
LAST-MODIFIED:20250503T200743Z
UID:724-1746698400-1746705600@viradasustentavel.org.br
SUMMARY:Workshop – Quebrando o muro: equidade e inclusão no cenário sociopolítico de BH
DESCRIPTION:Selma Silva é formada em Nutrição e Gastronomia\, com experiência em Gerenciamento e Supervisão de Unidades de Alimentação e Nutrição em grandes empresas\, e em Fiscalização de Contratos. Já atuou com Nutrição Hospitalar\, Nutrição Escolar e docência no Ensino Técnico Profissionalizante e na Graduação. \nComo transformar cascas\, talos e sementes em pratos deliciosos? Essa é a proposta do workshop “Zero Desperdício\, Mil Sabores: Reaproveitando e Reinventando a Comida”\, que integra a programação da Virada Sustentável BH. A oficina convida o público a repensar a forma como se relaciona com os alimentos. De maneira prática e acessível serão apresentadas receitas que utilizam partes normalmente descartadas de frutas e legumes. Os participantes também vão aprender sobre higienização\, formas de preparo e ideias para incluir esses ingredientes no dia a dia. Mais do que cozinhar\, a proposta é incentivar um olhar mais sustentável e nutritivo sobre aquilo que comemos – valorizando o alimento como um todo e reduzindo o desperdício. \nArtista/Grupo: Selma Silva
URL:https://viradasustentavel.org.br/belo-horizonte/eventos/workshop-quebrando-o-muro-equidade-e-inclusao-no-cenario-sociopolitico-de-bh/
LOCATION:Casa Baanko\, Av. Afonso Pena\, 2881 – Funcionários\,\, Belo Horizonte\, MG\, 30130-011\, Brazil
CATEGORIES:Workshop
ATTACH;FMTTYPE=image/jpeg:https://viradasustentavel.org.br/belo-horizonte/wp-content/uploads/sites/2/2025/05/Selma_Silva-Tamires-Cunha.jpeg
END:VEVENT
END:VCALENDAR