BEGIN:VCALENDAR
VERSION:2.0
PRODID:-//Virada Sustentável - Belo Horizonte - ECPv6.15.13.1//NONSGML v1.0//EN
CALSCALE:GREGORIAN
METHOD:PUBLISH
X-WR-CALNAME:Virada Sustentável - Belo Horizonte
X-ORIGINAL-URL:https://viradasustentavel.org.br/belo-horizonte
X-WR-CALDESC:Eventos para Virada Sustentável - Belo Horizonte
REFRESH-INTERVAL;VALUE=DURATION:PT1H
X-Robots-Tag:noindex
X-PUBLISHED-TTL:PT1H
BEGIN:VTIMEZONE
TZID:America/Sao_Paulo
BEGIN:STANDARD
TZOFFSETFROM:-0300
TZOFFSETTO:-0300
TZNAME:-03
DTSTART:20240101T000000
END:STANDARD
END:VTIMEZONE
BEGIN:VEVENT
DTSTART;TZID=America/Sao_Paulo:20250511T173000
DTEND;TZID=America/Sao_Paulo:20250511T190000
DTSTAMP:20260423T140610
CREATED:20250502T213414Z
LAST-MODIFIED:20250506T004715Z
UID:990-1746984600-1746990000@viradasustentavel.org.br
SUMMARY:Workshop – Zero Desperdício\, Mil Sabores: reaproveitando e reinventado a comida
DESCRIPTION:
URL:https://viradasustentavel.org.br/belo-horizonte/eventos/workshop-zero-desperdicio-mil-sabores-reaproveitando-e-reinventado-a-comida/
LOCATION:Casa Baanko\, Av. Afonso Pena\, 2881 – Funcionários\,\, Belo Horizonte\, MG\, 30130-011\, Brazil
CATEGORIES:Workshop
ATTACH;FMTTYPE=image/jpeg:https://viradasustentavel.org.br/belo-horizonte/wp-content/uploads/sites/2/2025/05/Armazem-do-Campo-BH-Tamires-Cunha.jpg
END:VEVENT
END:VCALENDAR